{"text_format":"1","workbook":"xlsx","n_sheets":2,"sheets":["Planilla caligus SIFA","Hoja2"],"not_rendered":{"charts":0,"images":0,"macros":1,"external_links":0,"defined_names":1,"comments":1,"pivot_tables":0},"unopened":[],"bounds":{"document_bytes":16777216,"sheet_cells":100000,"rows_first":2000,"rows_last":500,"rows_between":2000,"halvings":0,"cell_chars":16384,"cell_head_chars":4096},"cells_cut":0,"cells_raw":0,"read":"whole","date_system":"1900"}

{"sheet":"Planilla caligus SIFA","index":0,"n_rows":131,"n_cols":27,"rows_kept":131,"cut":false,"hidden":false,"merged":[[4,7,4,12],[5,7,5,12]]}
["Información General del Centro",null,"Especies del Centro",null,null,null,null,null,null,null,null,null,null,null,null,null,null,null,null,null,null,"Azar"]
[]
["Fecha Declaración:","2022-08-29","Especie N°1:","302 SALMON PLATEADO (ONCORHYNCHUS KISUTCH) ","N° Jaulas Pobladas",14.0,null,"T1= Realiza Tratamiento en la quincena con fármacos antiparasitarios con acción sobre adultos  ",null,null,null,null,null,null,null,null,null,null,null,null,null,null,null,null,null,null,"301 SALMON DEL ATLANTICO (SALMO SALAR) "]
["Código Centro:",110922.0,"Especie N°2:",null,"N° Jaulas Pobladas",null,null,"T2 = Realiza Tratamiento en la quincena con fármacos antiparasitarios con acción sobre juveniles",null,null,null,null,null,null,null,null,null,null,null,null,null,null,null,null,null,null,"302 SALMON PLATEADO (ONCORHYNCHUS KISUTCH) "]
["Rut Responsable del Muestreo:","16873317-8","Especie N°3:",null,"N° Jaulas Pobladas",null,null,"T3 = Realiza Tratamiento en la quincena con fármacos antiparasitarios con acción sobre ambos estadios",null,null,null,null,null,null,null,null,null,null,null,null,null,null,null,null,null,null,"303 SALMON REY (ONCORHYNCHUS TSHAWYTSCHA)"]
["Nombres Responsable Muestreo","Victor Alejandro","Especie N°4:",null,"N° Jaulas Pobladas",null,null,"TN = No Realiza Tratamiento con fármacos antiparasitarios ",null,null,null,null,null,null,null,null,null,null,null,null,null,null,null,null,null,null,"304 SALMON CEREZA (ONCORHYNCHUS MASOU) "]
["ApellidosResponsable Muestreo","Barrientos Ojeda","Especie N°5:",null,"N° Jaulas Pobladas",null,null,null,null,null,null,null,null,null,null,null,null,null,null,null,null,null,null,null,null,null,"305 SALMON KETA (ONCORHYNCHUS KETA) "]
["Es Muestreador Calificado","Si","Especie N°6:",null,"N° Jaulas Pobladas",null,null,null,null,null,null,null,null,null,null,null,null,null,null,null,null,null,null,null,null,null,"306 SALMON ROSADO (ONCORHYNCHUS GORBUSSCHA)"]
["Período:","Semana 39 (26-SEP-2022 al 2-OCT-2022)","Especie N°7:",null,"N° Jaulas Pobladas",null,null,null,null,null,null,null,null,null,null,null,null,null,null,null,null,null,null,null,null,null,"311 TRUCHA ARCO IRIS (ONCORHYNCHUS MYKISS) "]
["Total jaulas pobladas del centro:",14.0,"Especie N°8:",null,"N° Jaulas Pobladas",null,null,null,null,null,null,null,null,null,null,null,null,null,null,null,null,"Si",null,null,null,null,"312 TRUCHA CAFÉ (SALMO TRUTTA) "]
["Peso promedio del centro [gr]:",2860.1,null,null,null,null,null,null,null,null,null,null,null,null,null,null,null,null,null,null,null,"No",null,null,null,null,"313 TRUCHA DE ARROYO (SALVELINUS FONTINALIS) "]
["Número total de peces del centro:",998000.0,null,null,null,null,null,null,null,null,null,null,null,null,null,null,null,null,null,null,null,null,null,null,null,null,"315 TRUCHA DE LA MONTAÑA"]
["Biomasa [kg]:",{"$f":"+B11*B12/1000","v":2854379.8}]
[]
["Información por Jaula"]
[null,null,null,null,null,null,null,null,null,null,null,null,null,null,null,null,null,null,null,null,null,null,"0 SELECCIONE"]
["Fecha Muestreo","Identificador de Jaula","Tipo Estructura","Especie","Etapa de Desarrollo","N° de peces ","Peso Promedio de la Jaula[gr]","Biomasa [kg]","Temperatura[°C] ","Fotoperiodo","Salinidad [%]","Densidad [kg/m3]","T1","T2","T3","TN","Pez N° ","Juveniles","Adultos Móviles(AM)","Hembras ovígeras(HO)",null,null,"1 ADULTOS"]
["2022-08-25",107.0,"Azar","302 SALMON PLATEADO (ONCORHYNCHUS KISUTCH) ","1 ADULTOS",66616.0,3071.1,{"$f":"+(F18*G18)/1000","v":204584.3976},9.6,"No",25.7,7.7,"No","No","No","No",1.0,0.0,0.0,0.0,null,null,"6 SMOLTS"]
[{"$f":"IF(A18=\"\",\"\",A18)","v":"2022-08-25"},{"$f":"B18","v":107},"Azar","302 SALMON PLATEADO (ONCORHYNCHUS KISUTCH) ","1 ADULTOS",66616,3071.1,204584.3976,9.6,"No",25.7,7.7,"No","No","No","No",2.0,0.0,0.0,0.0,null,null,"7 JUVENILES"]
[{"$f":"A19","v":"2022-08-25"},107,"Azar","302 SALMON PLATEADO (ONCORHYNCHUS KISUTCH) ","1 ADULTOS",66616,3071.1,204584.3976,9.6,"No",25.7,7.7,"No","No","No","No",3.0,0.0,0.0,0.0,null,null,"8 REPRODUCTORES"]
[{"$f":"A20","v":"2022-08-25"},107,"Azar","302 SALMON PLATEADO (ONCORHYNCHUS KISUTCH) ","1 ADULTOS",66616,3071.1,204584.3976,9.6,"No",25.7,7.7,"No","No","No","No",4.0,0.0,0.0,0.0]
[{"$f":"A21","v":"2022-08-25"},107,"Azar","302 SALMON PLATEADO (ONCORHYNCHUS KISUTCH) ","1 ADULTOS",66616,3071.1,204584.3976,9.6,"No",25.7,7.7,"No","No","No","No",5.0,0.0,0.0,0.0]
[{"$f":"A22","v":"2022-08-25"},107,"Azar","302 SALMON PLATEADO (ONCORHYNCHUS KISUTCH) ","1 ADULTOS",66616,3071.1,204584.3976,9.6,"No",25.7,7.7,"No","No","No","No",6.0,0.0,0.0,0.0]
[{"$f":"A23","v":"2022-08-25"},107,"Azar","302 SALMON PLATEADO (ONCORHYNCHUS KISUTCH) ","1 ADULTOS",66616,3071.1,204584.3976,9.6,"No",25.7,7.7,"No","No","No","No",7.0,0.0,0.0,0.0]
[{"$f":"A24","v":"2022-08-25"},107,"Azar","302 SALMON PLATEADO (ONCORHYNCHUS KISUTCH) ","1 ADULTOS",66616,3071.1,204584.3976,9.6,"No",25.7,7.7,"No","No","No","No",8.0,0.0,0.0,0.0]
[{"$f":"A25","v":"2022-08-25"},107,"Azar","302 SALMON PLATEADO (ONCORHYNCHUS KISUTCH) ","1 ADULTOS",66616,3071.1,204584.3976,9.6,"No",25.7,7.7,"No","No","No","No",9.0,0.0,0.0,0.0]
[{"$f":"A26","v":"2022-08-25"},107,"Azar","302 SALMON PLATEADO (ONCORHYNCHUS KISUTCH) ","1 ADULTOS",66616,3071.1,204584.3976,9.6,"No",25.7,7.7,"No","No","No","No",10.0,0.0,0.0,0.0]
[{"$f":"A27","v":"2022-08-25"},107,"Azar","302 SALMON PLATEADO (ONCORHYNCHUS KISUTCH) ","1 ADULTOS",66616,3071.1,204584.3976,9.6,"No",25.7,7.7,"No","No","No","No","Batea",0.0,0.0,0.0]
["Fecha Muestreo","Identificador de Jaula","Tipo Estructura","Especie","Etapa de Desarrollo","N° de peces ","Peso Promedio de la Jaula[gr]","Biomasa [kg]","Temperatura[°C] ","Fotoperiodo","Salinidad [%]","Densidad [kg/m3]","T1","T2","T3","TN","Pez N° ","Juveniles","Adultos Móviles(AM)","Hembras ovígeras(HO)"]
[{"$f":"+A18","v":"2022-08-25"},108.0,"Azar","302 SALMON PLATEADO (ONCORHYNCHUS KISUTCH) ","1 ADULTOS",64295.0,2991.4,{"$f":"+(F30*G30)/1000","v":192332.063},{"$f":"+I18","v":9.6},"No",{"$f":"+K18","v":25.7},7.3,"No","No","No","No",1.0,0.0,0.0,0.0]
[{"$f":"IF(A30=\"\",\"\",A30)","v":"2022-08-25"},{"$f":"B30","v":108},"Azar","302 SALMON PLATEADO (ONCORHYNCHUS KISUTCH) ","1 ADULTOS",64295,2991.4,192332.063,9.6,"No",25.7,7.3,"No","No","No","No",2.0,0.0,0.0,0.0,null,null,"Semana 50 (13-DIC-2021 al 19-DIC-2021)"]
[{"$f":"A31","v":"2022-08-25"},108,"Azar","302 SALMON PLATEADO (ONCORHYNCHUS KISUTCH) ","1 ADULTOS",64295,2991.4,192332.063,9.6,"No",25.7,7.3,"No","No","No","No",3.0,0.0,0.0,0.0,null,null,"Semana 51 (20-DIC-2021 al 26-DIC-2021)"]
[{"$f":"A32","v":"2022-08-25"},108,"Azar","302 SALMON PLATEADO (ONCORHYNCHUS KISUTCH) ","1 ADULTOS",64295,2991.4,192332.063,9.6,"No",25.7,7.3,"No","No","No","No",4.0,0.0,0.0,0.0,null,null,"Semana 52 (27-DIC-2021 al 2-ENE-2022)"]
[{"$f":"A33","v":"2022-08-25"},108,"Azar","302 SALMON PLATEADO (ONCORHYNCHUS KISUTCH) ","1 ADULTOS",64295,2991.4,192332.063,9.6,"No",25.7,7.3,"No","No","No","No",5.0,0.0,0.0,0.0,null,null,"Semana 1 (3-ENE-2022 al 9-ENE-2022)"]
[{"$f":"A34","v":"2022-08-25"},108,"Azar","302 SALMON PLATEADO (ONCORHYNCHUS KISUTCH) ","1 ADULTOS",64295,2991.4,192332.063,9.6,"No",25.7,7.3,"No","No","No","No",6.0,0.0,0.0,0.0,null,null,"Semana 2 (10-ENE-2022 al 16-ENE-2022)"]
[{"$f":"A35","v":"2022-08-25"},108,"Azar","302 SALMON PLATEADO (ONCORHYNCHUS KISUTCH) ","1 ADULTOS",64295,2991.4,192332.063,9.6,"No",25.7,7.3,"No","No","No","No",7.0,0.0,0.0,0.0,null,null,"Semana 3 (17-ENE-2022 al 23-ENE-2022)"]
[{"$f":"A36","v":"2022-08-25"},108,"Azar","302 SALMON PLATEADO (ONCORHYNCHUS KISUTCH) ","1 ADULTOS",64295,2991.4,192332.063,9.6,"No",25.7,7.3,"No","No","No","No",8.0,0.0,0.0,0.0,null,null,"Semana 4 (24-ENE-2022 al 30-ENE-2022)"]
[{"$f":"A37","v":"2022-08-25"},108,"Azar","302 SALMON PLATEADO (ONCORHYNCHUS KISUTCH) ","1 ADULTOS",64295,2991.4,192332.063,9.6,"No",25.7,7.3,"No","No","No","No",9.0,0.0,0.0,0.0,null,null,"Semana 5 (31-ENE-2022 al 6-FEB-2022)"]
[{"$f":"A38","v":"2022-08-25"},108,"Azar","302 SALMON PLATEADO (ONCORHYNCHUS KISUTCH) ","1 ADULTOS",64295,2991.4,192332.063,9.6,"No",25.7,7.3,"No","No","No","No",10.0,0.0,0.0,0.0,null,null,"Semana 6 (7-FEB-2022 al 13-FEB-2022)"]
[{"$f":"A39","v":"2022-08-25"},108,"Azar","302 SALMON PLATEADO (ONCORHYNCHUS KISUTCH) ","1 ADULTOS",64295,2991.4,192332.063,9.6,"No",25.7,7.3,"No","No","No","No","Batea",0.0,0.0,0.0,null,null,"Semana 7 (14-FEB-2022 al 20-FEB-2022)"]
["Fecha Muestreo","Identificador de Jaula","Tipo Estructura","Especie","Etapa de Desarrollo","N° de peces ","Peso Promedio de la Jaula[gr]","Biomasa [kg]","Temperatura[°C] ","Fotoperiodo","Salinidad [%]","Densidad [kg/m3]","T1","T2","T3","TN","Pez N° ","Juveniles","Adultos Móviles(AM)","Hembras ovígeras(HO)",null,null,"Semana 8 (21-FEB-2022 al 27-FEB-2022)"]
[{"$f":"+A18","v":"2022-08-25"},109.0,"Azar","302 SALMON PLATEADO (ONCORHYNCHUS KISUTCH) ","1 ADULTOS",76989.0,2752.9,{"$f":"+(F42*G42)/1000","v":211943.0181},{"$f":"+I30","v":9.6},"No",{"$f":"+K30","v":25.7},8.0,"No","No","No","No",1.0,0.0,0.0,0.0,null,null,"Semana 9 (28-FEB-2022 al 6-MAR-2022)"]
[{"$f":"IF(A42=\"\",\"\",A42)","v":"2022-08-25"},{"$f":"B42","v":109},"Azar","302 SALMON PLATEADO (ONCORHYNCHUS KISUTCH) ","1 ADULTOS",76989,2752.9,211943.0181,9.6,"No",25.7,8,"No","No","No","No",2.0,0.0,0.0,0.0,null,null,"Semana 10 (7-MAR-2022 al 13-MAR-2022)"]
["2022-08-25",{"$f":"B43","v":109},"Azar","302 SALMON PLATEADO (ONCORHYNCHUS KISUTCH) ","1 ADULTOS",76989,2752.9,211943.0181,9.6,"No",25.7,8,"No","No","No","No",3.0,0.0,0.0,0.0,null,null,"Semana 11 (14-MAR-2022 al 20-MAR-2022)"]
["2022-08-25",{"$f":"B44","v":109},"Azar","302 SALMON PLATEADO (ONCORHYNCHUS KISUTCH) ","1 ADULTOS",76989,2752.9,211943.0181,9.6,"No",25.7,8,"No","No","No","No",4.0,0.0,0.0,0.0,null,null,"Semana 12 (21-MAR-2022 al 27-MAR-2022)"]
["2022-08-25",{"$f":"B45","v":109},"Azar","302 SALMON PLATEADO (ONCORHYNCHUS KISUTCH) ","1 ADULTOS",76989,2752.9,211943.0181,9.6,"No",25.7,8,"No","No","No","No",5.0,0.0,0.0,0.0,null,null,"Semana 13 (28-MAR-2022 al 3-ABR-2022)"]
["2022-08-25",{"$f":"B46","v":109},"Azar","302 SALMON PLATEADO (ONCORHYNCHUS KISUTCH) ","1 ADULTOS",76989,2752.9,211943.0181,9.6,"No",25.7,8,"No","No","No","No",6.0,0.0,0.0,0.0,null,null,"Semana 14 (4-ABR-2022 al 10-ABR-2022)"]
["2022-08-25",{"$f":"B47","v":109},"Azar","302 SALMON PLATEADO (ONCORHYNCHUS KISUTCH) ","1 ADULTOS",76989,2752.9,211943.0181,9.6,"No",25.7,8,"No","No","No","No",7.0,0.0,0.0,0.0,null,null,"Semana 15 (11-ABR-2022 al 17-ABR-2022)"]
["2022-08-25",{"$f":"B48","v":109},"Azar","302 SALMON PLATEADO (ONCORHYNCHUS KISUTCH) ","1 ADULTOS",76989,2752.9,211943.0181,9.6,"No",25.7,8,"No","No","No","No",8.0,0.0,0.0,0.0,null,null,"Semana 16 (18-ABR-2022 al 24-ABR-2022)"]
["2022-08-25",{"$f":"B49","v":109},"Azar","302 SALMON PLATEADO (ONCORHYNCHUS KISUTCH) ","1 ADULTOS",76989,2752.9,211943.0181,9.6,"No",25.7,8,"No","No","No","No",9.0,0.0,0.0,0.0,null,null,"Semana 17 (25-ABR-2022 al 1-MAY-2022)"]
["2022-08-25",{"$f":"B50","v":109},"Azar","302 SALMON PLATEADO (ONCORHYNCHUS KISUTCH) ","1 ADULTOS",76989,2752.9,211943.0181,9.6,"No",25.7,8,"No","No","No","No",10.0,0.0,0.0,0.0,null,null,"Semana 18 (2-MAY-2022 al 8-MAY-2022)"]
["2022-08-25",{"$f":"B51","v":109},"Azar","302 SALMON PLATEADO (ONCORHYNCHUS KISUTCH) ","1 ADULTOS",76989,2752.9,211943.0181,9.6,"No",25.7,8,"No","No","No","No","Batea",0.0,0.0,0.0,null,null,"Semana 19 (9-MAY-2022 al 15-MAY-2022)"]
["Fecha Muestreo","Identificador de Jaula","Tipo Estructura","Especie","Etapa de Desarrollo","N° de peces ","Peso Promedio de la Jaula[gr]","Biomasa [kg]","Temperatura[°C] ","Fotoperiodo","Salinidad [%]","Densidad [kg/m3]","T1","T2","T3","TN","Pez N° ","Juveniles","Adultos Móviles(AM)","Hembras ovígeras(HO)",null,null,"Semana 20 (16-MAY-2022 al 22-MAY-2022)"]
[{"$f":"+A18","v":"2022-08-25"},110.0,"Azar","302 SALMON PLATEADO (ONCORHYNCHUS KISUTCH) ","1 ADULTOS",77566.0,2877.3,{"$f":"+(F54*G54)/1000","v":223180.6518},{"$f":"+I42","v":9.6},"No",{"$f":"+K42","v":25.7},8.5,"No","No","No","No",1.0,0.0,0.0,0.0,null,null,"Semana 21 (23-MAY-2022 al 29-MAY-2022)"]
[{"$f":"IF(A54=\"\",\"\",A54)","v":"2022-08-25"},{"$f":"B54","v":110},"Azar","302 SALMON PLATEADO (ONCORHYNCHUS KISUTCH) ","1 ADULTOS",77566,2877.3,223180.6518,9.6,"No",25.7,8.5,"No","No","No","No",2.0,0.0,0.0,0.0,null,null,"Semana 22 (30-MAY-2022 al 5-JUN-2022)"]
["2022-08-25",{"$f":"B55","v":110},"Azar","302 SALMON PLATEADO (ONCORHYNCHUS KISUTCH) ","1 ADULTOS",77566,2877.3,223180.6518,9.6,"No",25.7,8.5,"No","No","No","No",3.0,0.0,0.0,0.0,null,null,"Semana 23 (6-JUN-2022 al 12-JUN-2022)"]
["2022-08-25",{"$f":"B56","v":110},"Azar","302 SALMON PLATEADO (ONCORHYNCHUS KISUTCH) ","1 ADULTOS",77566,2877.3,223180.6518,9.6,"No",25.7,8.5,"No","No","No","No",4.0,0.0,0.0,0.0,null,null,"Semana 24 (13-JUN-2022 al 19-JUN-2022)"]
["2022-08-25",{"$f":"B57","v":110},"Azar","302 SALMON PLATEADO (ONCORHYNCHUS KISUTCH) ","1 ADULTOS",77566,2877.3,223180.6518,9.6,"No",25.7,8.5,"No","No","No","No",5.0,0.0,0.0,0.0,null,null,"Semana 25 (20-JUN-2022 al 26-JUN-2022)"]
["2022-08-25",{"$f":"B58","v":110},"Azar","302 SALMON PLATEADO (ONCORHYNCHUS KISUTCH) ","1 ADULTOS",77566,2877.3,223180.6518,9.6,"No",25.7,8.5,"No","No","No","No",6.0,0.0,0.0,0.0,null,null,"Semana 26 (27-JUN-2022 al 3-JUL-2022)"]
["2022-08-25",{"$f":"B59","v":110},"Azar","302 SALMON PLATEADO (ONCORHYNCHUS KISUTCH) ","1 ADULTOS",77566,2877.3,223180.6518,9.6,"No",25.7,8.5,"No","No","No","No",7.0,0.0,0.0,0.0,null,null,"Semana 27 (4-JUL-2022 al 10-JUL-2022)"]
["2022-08-25",{"$f":"B60","v":110},"Azar","302 SALMON PLATEADO (ONCORHYNCHUS KISUTCH) ","1 ADULTOS",77566,2877.3,223180.6518,9.6,"No",25.7,8.5,"No","No","No","No",8.0,0.0,0.0,0.0,null,null,"Semana 28 (11-JUL-2022 al 17-JUL-2022)"]
["2022-08-25",{"$f":"B61","v":110},"Azar","302 SALMON PLATEADO (ONCORHYNCHUS KISUTCH) ","1 ADULTOS",77566,2877.3,223180.6518,9.6,"No",25.7,8.5,"No","No","No","No",9.0,0.0,0.0,0.0,null,null,"Semana 29 (18-JUL-2022 al 24-JUL-2022)"]
["2022-08-25",{"$f":"B62","v":110},"Azar","302 SALMON PLATEADO (ONCORHYNCHUS KISUTCH) ","1 ADULTOS",77566,2877.3,223180.6518,9.6,"No",25.7,8.5,"No","No","No","No",10.0,0.0,0.0,0.0,null,null,"Semana 30 (25-JUL-2022 al 31-JUL-2022)"]
["2022-08-25",{"$f":"B63","v":110},"Azar","302 SALMON PLATEADO (ONCORHYNCHUS KISUTCH) ","1 ADULTOS",77566,2877.3,223180.6518,9.6,"No",25.7,8.5,"No","No","No","No","Batea",0.0,0.0,0.0,null,null,"Semana 31 (1-AGO-2022 al 7-AGO-2022)"]
["Fecha Muestreo","Identificador de Jaula","Tipo Estructura","Especie","Etapa de Desarrollo","N° de peces ","Peso Promedio de la Jaula[gr]","Biomasa [kg]","Temperatura[°C] ","Fotoperiodo","Salinidad [%]","Densidad [kg/m3]","T1","T2","T3","TN","Pez N° ","Juveniles","Adultos Móviles(AM)","Hembras ovígeras(HO)",null,null,"Semana 32 (8-AGO-2022 al 14-AGO-2022)"]
[null,null,null,null,null,null,null,{"$f":"+(F66*G66)/1000","v":0},null,null,null,null,null,null,null,null,1.0,null,null,null,null,null,"Semana 33 (15-AGO-2022 al 21-AGO-2022)"]
[{"$f":"IF(A66=\"\",\"\",A66)","v":""},{"$f":"B66","v":""},"","","","","",0,"","","","","","","","",2.0,null,null,null,null,null,"Semana 34 (22-AGO-2022 al 28-AGO-2022)"]
["",{"$f":"B67","v":""},"","","","","",0,"","","","","","","","",3.0,null,null,null,null,null,"Semana 35 (29-AGO-2022 al 4-SEP-2022)"]
["",{"$f":"B68","v":""},"","","","","",0,"","","","","","","","",4.0,null,null,null,null,null,"Semana 36 (5-SEP-2022 al 11-SEP-2022)"]
["",{"$f":"B69","v":""},"","","","","",0,"","","","","","","","",5.0,null,null,null,null,null,"Semana 37 (12-SEP-2022 al 18-SEP-2022)"]
["",{"$f":"B70","v":""},"","","","","",0,"","","","","","","","",6.0,null,null,null,null,null,"Semana 38 (19-SEP-2022 al 25-SEP-2022)"]
["",{"$f":"B71","v":""},"","","","","",0,"","","","","","","","",7.0,null,null,null,null,null,"Semana 39 (26-SEP-2022 al 2-OCT-2022)"]
["",{"$f":"B72","v":""},"","","","","",0,"","","","","","","","",8.0,null,null,null,null,null,"Semana 40 (3-OCT-2022 al 9-OCT-2022)"]
["",{"$f":"B73","v":""},"","","","","",0,"","","","","","","","",9.0,null,null,null,null,null,"Semana 41 (10-OCT-2022 al 16-OCT-2022)"]
["",{"$f":"B74","v":""},"","","","","",0,"","","","","","","","",10.0,null,null,null,null,null,"Semana 42 (17-OCT-2022 al 23-OCT-2022)"]
["",{"$f":"B75","v":""},"","","","","",0,"","","","","","","","","Batea",null,null,null,null,null,"Semana 43 (24-OCT-2022 al 30-OCT-2022)"]
["Fecha Muestreo","Identificador de Jaula","Tipo Estructura","Especie","Etapa de Desarrollo","N° de peces ","Peso Promedio de la Jaula[gr]","Biomasa [kg]","Temperatura[°C] ","Fotoperiodo","Salinidad [%]","Densidad [kg/m3]","T1","T2","T3","TN","Pez N° ","Juveniles","Adultos Móviles(AM)","Hembras ovígeras(HO)",null,null,"Semana 44 (31-OCT-2022 al 6-NOV-2022)"]
[null,null,null,null,null,null,null,{"$f":"+(F78*G78)/1000","v":0},null,null,null,null,null,null,null,null,1.0,null,null,null,null,null,"Semana 45 (7-NOV-2022 al 13-NOV-2022)"]
[{"$f":"IF(A78=\"\",\"\",A78)","v":""},{"$f":"B78","v":""},"","","","","",0,"","","","","","","","",2.0,null,null,null,null,null,"Semana 46 (14-NOV-2022 al 20-NOV-2022)"]
["",{"$f":"B79","v":""},"","","","","",0,"","","","","","","","",3.0,null,null,null,null,null,"Semana 47 (21-NOV-2022 al 27-NOV-2022)"]
["",{"$f":"B80","v":""},"","","","","",0,"","","","","","","","",4.0,null,null,null,null,null,"Semana 48 (28-NOV-2022 al 4-DIC-2022)"]
["",{"$f":"B81","v":""},"","","","","",0,"","","","","","","","",5.0,null,null,null,null,null,"Semana 49 (5-DIC-2022 al 11-DIC-2022)"]
["",{"$f":"B82","v":""},"","","","","",0,"","","","","","","","",6.0,null,null,null,null,null,"Semana 50 (12-DIC-2022 al 18-DIC-2022)"]
["",{"$f":"B83","v":""},"","","","","",0,"","","","","","","","",7.0,null,null,null,null,null,"Semana 51 (19-DIC-2022 al 25-DIC-2022)"]
["",{"$f":"B84","v":""},"","","","","",0,"","","","","","","","",8.0,null,null,null,null,null,"Semana 52 (26-DIC-2022 al 1-ENE-2023)"]
["",{"$f":"B85","v":""},"","","","","",0,"","","","","","","","",9.0]
["",{"$f":"B86","v":""},"","","","","",0,"","","","","","","","",10.0]
["",{"$f":"B87","v":""},"","","","","",0,"","","","","","","","","Batea"]
["Fecha Muestreo","Identificador de Jaula","Tipo Estructura","Especie","Etapa de Desarrollo","N° de peces ","Peso Promedio de la Jaula[gr]","Biomasa [kg]","Temperatura[°C] ","Fotoperiodo","Salinidad [%]","Densidad [kg/m3]","T1","T2","T3","TN","Pez N° ","Juveniles","Adultos Móviles(AM)","Hembras ovígeras(HO)"]
[null,null,null,null,null,null,null,{"$f":"+(F90*G90)/1000","v":0},null,null,null,null,null,null,null,null,1.0]
[{"$f":"IF(A90=\"\",\"\",A90)","v":""},{"$f":"B90","v":""},"","","","","",0,"","","","","","","","",2.0]
["",{"$f":"B91","v":""},"","","","","",0,"","","","","","","","",3.0]
["",{"$f":"B92","v":""},"","","","","",0,"","","","","","","","",4.0]
["",{"$f":"B93","v":""},"","","","","",0,"","","","","","","","",5.0]
["",{"$f":"B94","v":""},"","","","","",0,"","","","","","","","",6.0]
["",{"$f":"B95","v":""},"","","","","",0,"","","","","","","","",7.0]
["",{"$f":"B96","v":""},"","","","","",0,"","","","","","","","",8.0]
["",{"$f":"B97","v":""},"","","","","",0,"","","","","","","","",9.0]
["",{"$f":"B98","v":""},"","","","","",0,"","","","","","","","",10.0]
["",{"$f":"B99","v":""},"","","","","",0,"","","","","","","","","Batea"]
["Fecha Muestreo","Identificador de Jaula","Tipo Estructura","Especie","Etapa de Desarrollo","N° de peces ","Peso Promedio de la Jaula[gr]","Biomasa [kg]","Temperatura[°C] ","Fotoperiodo","Salinidad [%]","Densidad [kg/m3]","T1","T2","T3","TN","Pez N° ","Juveniles","Adultos Móviles(AM)","Hembras ovígeras(HO)"]
[null,null,null,null,null,null,null,{"$f":"+(F102*G102)/1000","v":0},null,null,null,null,null,null,null,null,1.0]
[{"$f":"IF(A102=\"\",\"\",A102)","v":""},{"$f":"B102","v":""},"","","","","",0,"","","","","","","","",2.0]
["",{"$f":"B103","v":""},"","","","","",0,"","","","","","","","",3.0]
["",{"$f":"B104","v":""},"","","","","",0,"","","","","","","","",4.0]
["",{"$f":"B105","v":""},"","","","","",0,"","","","","","","","",5.0]
["",{"$f":"B106","v":""},"","","","","",0,"","","","","","","","",6.0]
["",{"$f":"B107","v":""},"","","","","",0,"","","","","","","","",7.0]
["",{"$f":"B108","v":""},"","","","","",0,"","","","","","","","",8.0]
["",{"$f":"B109","v":""},"","","","","",0,"","","","","","","","",9.0]
["",{"$f":"B110","v":""},"","","","","",0,"","","","","","","","",10.0]
["",{"$f":"B111","v":""},"","","","","",0,"","","","","","","","","Batea"]
[]
[]
[]
[]
[]
[null,"1. Control de uso de Aparatos Acústicos Disuasivos (AAD) o Aparatos Acústicos de Hostigamiento (AAH) para el control de Depredadores."]
[]
[null,"N° días al mes","Semana 39 29/09/2022"]
[null,"Equipo","MAYO "]
[null,"AAD",0.0]
[null,"AAH",0.0]
[null,null,null,"         "]
[]
[null,"2. Incidentes Mortales (1) en Mamiferos Marinos, Aves u otras especies."]
[]
[null,"N° de Incidentes al mes"]
[null,"Mamíferos / Aves","Semana 39 29/09/2022"]
[null,"Mamíferos Marinos",0.0]
[null,"Aves",0.0]

{"sheet":"Hoja2","index":1,"n_rows":37,"n_cols":12,"rows_kept":37,"cut":false,"hidden":false,"merged":[]}
[]
[]
[]
[null,{"$f":"'Planilla caligus SIFA'!B9","v":"Semana 39 (26-SEP-2022 al 2-OCT-2022)"}]
[null,"Jaula",{"$f":"'Planilla caligus SIFA'!B18","v":107},{"$f":"'Planilla caligus SIFA'!B3","v":"2022-08-29"},null,null,null,{"$f":"+B5","v":"Jaula"},{"$f":"'Planilla caligus SIFA'!B30","v":108},{"$f":"'Planilla caligus SIFA'!B3","v":"2022-08-29"}]
[null,"Caligus","Juveniles","Adultos Móviles(AM)","Hembras ovígeras(HO)","Total adultos",null,"Caligus","Juveniles","Adultos Móviles(AM)","Hembras ovígeras(HO)","Total adultos"]
[null,1.0,{"$f":"'Planilla caligus SIFA'!R18","v":0},{"$f":"'Planilla caligus SIFA'!S18","v":0},{"$f":"+'Planilla caligus SIFA'!T18","v":0},{"$f":"+D7+E7","v":0},null,1.0,{"$f":"'Planilla caligus SIFA'!R30","v":0},{"$f":"'Planilla caligus SIFA'!S30","v":0},{"$f":"'Planilla caligus SIFA'!T30","v":0},{"$f":"+J7+K7","v":0}]
[null,2.0,{"$f":"'Planilla caligus SIFA'!R19","v":0},{"$f":"'Planilla caligus SIFA'!S19","v":0},{"$f":"+'Planilla caligus SIFA'!T19","v":0},0,null,2.0,{"$f":"'Planilla caligus SIFA'!R31","v":0},{"$f":"'Planilla caligus SIFA'!S31","v":0},{"$f":"'Planilla caligus SIFA'!T31","v":0},0]
[null,3.0,{"$f":"'Planilla caligus SIFA'!R20","v":0},{"$f":"'Planilla caligus SIFA'!S20","v":0},{"$f":"+'Planilla caligus SIFA'!T20","v":0},0,null,3.0,{"$f":"'Planilla caligus SIFA'!R32","v":0},{"$f":"'Planilla caligus SIFA'!S32","v":0},{"$f":"'Planilla caligus SIFA'!T32","v":0},0]
[null,4.0,{"$f":"'Planilla caligus SIFA'!R21","v":0},{"$f":"'Planilla caligus SIFA'!S21","v":0},{"$f":"+'Planilla caligus SIFA'!T21","v":0},0,null,4.0,{"$f":"'Planilla caligus SIFA'!R33","v":0},{"$f":"'Planilla caligus SIFA'!S33","v":0},{"$f":"'Planilla caligus SIFA'!T33","v":0},0]
[null,5.0,{"$f":"'Planilla caligus SIFA'!R22","v":0},{"$f":"'Planilla caligus SIFA'!S22","v":0},{"$f":"+'Planilla caligus SIFA'!T22","v":0},0,null,5.0,{"$f":"'Planilla caligus SIFA'!R34","v":0},{"$f":"'Planilla caligus SIFA'!S34","v":0},{"$f":"'Planilla caligus SIFA'!T34","v":0},0]
[null,6.0,{"$f":"'Planilla caligus SIFA'!R23","v":0},{"$f":"'Planilla caligus SIFA'!S23","v":0},{"$f":"+'Planilla caligus SIFA'!T23","v":0},0,null,6.0,{"$f":"'Planilla caligus SIFA'!R35","v":0},{"$f":"'Planilla caligus SIFA'!S35","v":0},{"$f":"'Planilla caligus SIFA'!T35","v":0},0]
[null,7.0,{"$f":"'Planilla caligus SIFA'!R24","v":0},{"$f":"'Planilla caligus SIFA'!S24","v":0},{"$f":"+'Planilla caligus SIFA'!T24","v":0},0,null,7.0,{"$f":"'Planilla caligus SIFA'!R36","v":0},{"$f":"'Planilla caligus SIFA'!S36","v":0},{"$f":"'Planilla caligus SIFA'!T36","v":0},0]
[null,8.0,{"$f":"'Planilla caligus SIFA'!R25","v":0},{"$f":"'Planilla caligus SIFA'!S25","v":0},{"$f":"+'Planilla caligus SIFA'!T25","v":0},0,null,8.0,{"$f":"'Planilla caligus SIFA'!R37","v":0},{"$f":"'Planilla caligus SIFA'!S37","v":0},{"$f":"'Planilla caligus SIFA'!T37","v":0},0]
[null,9.0,{"$f":"'Planilla caligus SIFA'!R26","v":0},{"$f":"'Planilla caligus SIFA'!S26","v":0},{"$f":"+'Planilla caligus SIFA'!T26","v":0},0,null,9.0,{"$f":"'Planilla caligus SIFA'!R38","v":0},{"$f":"'Planilla caligus SIFA'!S38","v":0},{"$f":"'Planilla caligus SIFA'!T38","v":0},0]
[null,10.0,{"$f":"'Planilla caligus SIFA'!R27","v":0},{"$f":"'Planilla caligus SIFA'!S27","v":0},{"$f":"+'Planilla caligus SIFA'!T27","v":0},0,null,10.0,{"$f":"'Planilla caligus SIFA'!R39","v":0},{"$f":"'Planilla caligus SIFA'!S39","v":0},{"$f":"'Planilla caligus SIFA'!T39","v":0},0]
[null,"batea",{"$f":"'Planilla caligus SIFA'!R28","v":0},{"$f":"'Planilla caligus SIFA'!S28","v":0},{"$f":"+'Planilla caligus SIFA'!T28","v":0},0,null,"batea",{"$f":"'Planilla caligus SIFA'!R40","v":0},{"$f":"'Planilla caligus SIFA'!S40","v":0},{"$f":"'Planilla caligus SIFA'!T40","v":0},0]
[null,"promedio",{"$f":"SUM(C7:C17)/10","v":0},0,0,0,null,"promedio",{"$f":"SUM(I7:I17)/10","v":0},0,0,0]
[]
[null,"Jaula",{"$f":"'Planilla caligus SIFA'!B42","v":109},{"$f":"'Planilla caligus SIFA'!B3","v":"2022-08-29"},null,null,null,"Jaula",{"$f":"'Planilla caligus SIFA'!B54","v":110},{"$f":"'Planilla caligus SIFA'!B3","v":"2022-08-29"}]
[null,"Caligus","Juveniles","Adultos Móviles(AM)","Hembras ovígeras(HO)","Total adultos",null,"Caligus","Juveniles","Adultos Móviles(AM)","Hembras ovígeras(HO)","Total adultos"]
[null,1.0,{"$f":"'Planilla caligus SIFA'!R42","v":0},{"$f":"'Planilla caligus SIFA'!S42","v":0},{"$f":"'Planilla caligus SIFA'!T42","v":0},{"$f":"+D22+E22","v":0},null,1.0,{"$f":"'Planilla caligus SIFA'!R54","v":0},{"$f":"'Planilla caligus SIFA'!S54","v":0},{"$f":"'Planilla caligus SIFA'!T54","v":0},{"$f":"+J22+K22","v":0}]
[null,2.0,{"$f":"'Planilla caligus SIFA'!R43","v":0},{"$f":"'Planilla caligus SIFA'!S43","v":0},{"$f":"'Planilla caligus SIFA'!T43","v":0},0,null,2.0,{"$f":"'Planilla caligus SIFA'!R55","v":0},{"$f":"'Planilla caligus SIFA'!S55","v":0},{"$f":"'Planilla caligus SIFA'!T55","v":0},0]
[null,3.0,{"$f":"'Planilla caligus SIFA'!R44","v":0},{"$f":"'Planilla caligus SIFA'!S44","v":0},{"$f":"'Planilla caligus SIFA'!T44","v":0},0,null,3.0,{"$f":"'Planilla caligus SIFA'!R56","v":0},{"$f":"'Planilla caligus SIFA'!S56","v":0},{"$f":"'Planilla caligus SIFA'!T56","v":0},0]
[null,4.0,{"$f":"'Planilla caligus SIFA'!R45","v":0},{"$f":"'Planilla caligus SIFA'!S45","v":0},{"$f":"'Planilla caligus SIFA'!T45","v":0},0,null,4.0,{"$f":"'Planilla caligus SIFA'!R57","v":0},{"$f":"'Planilla caligus SIFA'!S57","v":0},{"$f":"'Planilla caligus SIFA'!T57","v":0},0]
[null,5.0,{"$f":"'Planilla caligus SIFA'!R46","v":0},{"$f":"'Planilla caligus SIFA'!S46","v":0},{"$f":"'Planilla caligus SIFA'!T46","v":0},0,null,5.0,{"$f":"'Planilla caligus SIFA'!R58","v":0},{"$f":"'Planilla caligus SIFA'!S58","v":0},{"$f":"'Planilla caligus SIFA'!T58","v":0},0]
[null,6.0,{"$f":"'Planilla caligus SIFA'!R47","v":0},{"$f":"'Planilla caligus SIFA'!S47","v":0},{"$f":"'Planilla caligus SIFA'!T47","v":0},0,null,6.0,{"$f":"'Planilla caligus SIFA'!R59","v":0},{"$f":"'Planilla caligus SIFA'!S59","v":0},{"$f":"'Planilla caligus SIFA'!T59","v":0},0]
[null,7.0,{"$f":"'Planilla caligus SIFA'!R48","v":0},{"$f":"'Planilla caligus SIFA'!S48","v":0},{"$f":"'Planilla caligus SIFA'!T48","v":0},0,null,7.0,{"$f":"'Planilla caligus SIFA'!R60","v":0},{"$f":"'Planilla caligus SIFA'!S60","v":0},{"$f":"'Planilla caligus SIFA'!T60","v":0},0]
[null,8.0,{"$f":"'Planilla caligus SIFA'!R49","v":0},{"$f":"'Planilla caligus SIFA'!S49","v":0},{"$f":"'Planilla caligus SIFA'!T49","v":0},0,null,8.0,{"$f":"'Planilla caligus SIFA'!R61","v":0},{"$f":"'Planilla caligus SIFA'!S61","v":0},{"$f":"'Planilla caligus SIFA'!T61","v":0},0]
[null,9.0,{"$f":"'Planilla caligus SIFA'!R50","v":0},{"$f":"'Planilla caligus SIFA'!S50","v":0},{"$f":"'Planilla caligus SIFA'!T50","v":0},0,null,9.0,{"$f":"'Planilla caligus SIFA'!R62","v":0},{"$f":"'Planilla caligus SIFA'!S62","v":0},{"$f":"'Planilla caligus SIFA'!T62","v":0},0]
[null,10.0,{"$f":"'Planilla caligus SIFA'!R51","v":0},{"$f":"'Planilla caligus SIFA'!S51","v":0},{"$f":"'Planilla caligus SIFA'!T51","v":0},0,null,10.0,{"$f":"'Planilla caligus SIFA'!R63","v":0},{"$f":"'Planilla caligus SIFA'!S63","v":0},{"$f":"'Planilla caligus SIFA'!T63","v":0},0]
[null,"batea",{"$f":"'Planilla caligus SIFA'!R52","v":0},{"$f":"'Planilla caligus SIFA'!S52","v":0},{"$f":"'Planilla caligus SIFA'!T52","v":0},0,null,"batea",{"$f":"'Planilla caligus SIFA'!R64","v":0},{"$f":"'Planilla caligus SIFA'!S64","v":0},{"$f":"'Planilla caligus SIFA'!T64","v":0},0]
[null,"promedio",{"$f":"SUM(C22:C32)/10","v":0},0,0,0,null,"promedio",{"$f":"SUM(I22:I32)/10","v":0},0,0,0]
[]
[null,"Nombre","Victor","Barrientos"]
[null,"Rut","16873317-8"]
[null,"Fecha",{"$f":"+D5","v":"2022-08-29"}]