{"text_format":"1","workbook":"xlsx","n_sheets":4,"sheets":["Planilla caligus SIFA","BITACORA","RESUMEN","Hoja3"],"not_rendered":{"charts":0,"images":0,"macros":1,"external_links":0,"defined_names":1,"comments":1,"pivot_tables":0},"unopened":[],"bounds":{"document_bytes":16777216,"sheet_cells":100000,"rows_first":2000,"rows_last":500,"rows_between":2000,"halvings":0,"cell_chars":16384,"cell_head_chars":4096},"cells_cut":0,"cells_raw":0,"read":"whole","date_system":"1900"}

{"sheet":"Planilla caligus SIFA","index":0,"n_rows":131,"n_cols":27,"rows_kept":131,"cut":false,"hidden":false,"merged":[[4,7,4,12],[5,7,5,12]]}
["Información General del Centro",null,"Especies del Centro",null,null,null,null,null,null,null,null,null,null,null,null,null,null,null,null,null,null,"Azar"]
[]
["Fecha Declaración:","2022-08-28","Especie N°1:","302 SALMON PLATEADO (ONCORHYNCHUS KISUTCH) ","N° Jaulas Pobladas",13.0,null,"T1= Realiza Tratamiento en la quincena con fármacos antiparasitarios con acción sobre adultos  ",null,null,null,null,null,null,null,null,null,null,null,null,null,null,null,null,null,null,"301 SALMON DEL ATLANTICO (SALMO SALAR) "]
["Código Centro:",101607.0,"Especie N°2:",null,"N° Jaulas Pobladas",null,null,"T2 = Realiza Tratamiento en la quincena con fármacos antiparasitarios con acción sobre juveniles",null,null,null,null,null,null,null,null,null,null,null,null,null,null,null,null,null,null,"302 SALMON PLATEADO (ONCORHYNCHUS KISUTCH) "]
["Rut Responsable del Muestreo:","16.343.348-6","Especie N°3:",null,"N° Jaulas Pobladas",null,null,"T3 = Realiza Tratamiento en la quincena con fármacos antiparasitarios con acción sobre ambos estadios",null,null,null,null,null,null,null,null,null,null,null,null,null,null,null,null,null,null,"303 SALMON REY (ONCORHYNCHUS TSHAWYTSCHA)"]
["Nombres Responsable Muestreo","Marco Antonio","Especie N°4:",null,"N° Jaulas Pobladas",null,null,"TN = No Realiza Tratamiento con fármacos antiparasitarios ",null,null,null,null,null,null,null,null,null,null,null,null,null,null,null,null,null,null,"304 SALMON CEREZA (ONCORHYNCHUS MASOU) "]
["ApellidosResponsable Muestreo","Jaramillo Cárdenas","Especie N°5:",null,"N° Jaulas Pobladas",null,null,null,null,null,null,null,null,null,null,null,null,null,null,null,null,null,null,null,null,null,"305 SALMON KETA (ONCORHYNCHUS KETA) "]
["Es Muestreador Calificado","Si","Especie N°6:",null,"N° Jaulas Pobladas",null,null,null,null,null,null,null,null,null,null,null,null,null,null,null,null,null,null,null,null,null,"306 SALMON ROSADO (ONCORHYNCHUS GORBUSSCHA)"]
["Período:","Semana 34 (22-AGO-2022 al 28-AGO-2022)","Especie N°7:",null,"N° Jaulas Pobladas",null,null,null,null,null,null,null,null,null,null,null,null,null,null,null,null,null,null,null,null,null,"311 TRUCHA ARCO IRIS (ONCORHYNCHUS MYKISS) "]
["Total jaulas pobladas del centro:",13.0,"Especie N°8:",null,"N° Jaulas Pobladas",null,null,null,null,null,null,null,null,null,null,null,null,null,null,null,null,"Si",null,null,null,null,"312 TRUCHA CAFÉ (SALMO TRUTTA) "]
["Peso promedio del centro [gr]:",3643.9,null,null,null,null,null,null,null,null,null,null,null,null,null,null,null,null,null,null,null,"No",null,null,null,null,"313 TRUCHA DE ARROYO (SALVELINUS FONTINALIS) "]
["Número total de peces del centro:",891405.0,null,null,null,null,null,null,null,null,null,null,null,null,null,null,null,null,null,null,null,null,null,null,null,null,"315 TRUCHA DE LA MONTAÑA"]
["Biomasa [kg]:",{"$f":"+B11*B12/1000","v":3248190.68}]
[]
["Información por Jaula"]
[null,null,null,null,null,null,null,null,null,null,null,null,null,null,null,null,null,null,null,null,null,null,"0 SELECCIONE"]
["Fecha Muestreo","Identificador de Jaula","Tipo Estructura","Especie","Etapa de Desarrollo","N° de peces ","Peso Promedio de la Jaula[gr]","Biomasa [kg]","Temperatura[°C] ","Fotoperiodo","Salinidad [%]","Densidad [kg/m3]","T1","T2","T3","TN","Pez N° ","Juveniles","Adultos Móviles(AM)","Hembras ovígeras(HO)",null,null,"1 ADULTOS"]
["2022-08-28",101.0,"Azar","302 SALMON PLATEADO (ONCORHYNCHUS KISUTCH) ","1 ADULTOS",69958.0,3990.0,{"$f":"+(F18*G18)/1000","v":279132.42},10.1,"Si",34.0,11.6,"No","No","No","Si",1.0,0.0,0.0,0.0,null,null,"6 SMOLTS"]
[{"$f":"IF(A18=\"\",\"\",A18)","v":"2022-08-28"},{"$f":"B18","v":101},"Azar","302 SALMON PLATEADO (ONCORHYNCHUS KISUTCH) ","1 ADULTOS",69958,3990,279132.42,10.1,"Si",34,11.6,"No","No","No","Si",2.0,0.0,0.0,0.0,null,null,"7 JUVENILES"]
[{"$f":"A19","v":"2022-08-28"},101,"Azar","302 SALMON PLATEADO (ONCORHYNCHUS KISUTCH) ","1 ADULTOS",69958,3990,279132.42,10.1,"Si",34,11.6,"No","No","No","Si",3.0,0.0,0.0,0.0,null,null,"8 REPRODUCTORES"]
[{"$f":"A20","v":"2022-08-28"},101,"Azar","302 SALMON PLATEADO (ONCORHYNCHUS KISUTCH) ","1 ADULTOS",69958,3990,279132.42,10.1,"Si",34,11.6,"No","No","No","Si",4.0,1.0,0.0,0.0]
[{"$f":"A21","v":"2022-08-28"},101,"Azar","302 SALMON PLATEADO (ONCORHYNCHUS KISUTCH) ","1 ADULTOS",69958,3990,279132.42,10.1,"Si",34,11.6,"No","No","No","Si",5.0,0.0,0.0,0.0]
[{"$f":"A22","v":"2022-08-28"},101,"Azar","302 SALMON PLATEADO (ONCORHYNCHUS KISUTCH) ","1 ADULTOS",69958,3990,279132.42,10.1,"Si",34,11.6,"No","No","No","Si",6.0,0.0,0.0,0.0]
[{"$f":"A23","v":"2022-08-28"},101,"Azar","302 SALMON PLATEADO (ONCORHYNCHUS KISUTCH) ","1 ADULTOS",69958,3990,279132.42,10.1,"Si",34,11.6,"No","No","No","Si",7.0,0.0,0.0,0.0]
[{"$f":"A24","v":"2022-08-28"},101,"Azar","302 SALMON PLATEADO (ONCORHYNCHUS KISUTCH) ","1 ADULTOS",69958,3990,279132.42,10.1,"Si",34,11.6,"No","No","No","Si",8.0,1.0,0.0,0.0]
[{"$f":"A25","v":"2022-08-28"},101,"Azar","302 SALMON PLATEADO (ONCORHYNCHUS KISUTCH) ","1 ADULTOS",69958,3990,279132.42,10.1,"Si",34,11.6,"No","No","No","Si",9.0,0.0,0.0,0.0]
[{"$f":"A26","v":"2022-08-28"},101,"Azar","302 SALMON PLATEADO (ONCORHYNCHUS KISUTCH) ","1 ADULTOS",69958,3990,279132.42,10.1,"Si",34,11.6,"No","No","No","Si",10.0,0.0,0.0,0.0]
[{"$f":"A27","v":"2022-08-28"},101,"Azar","302 SALMON PLATEADO (ONCORHYNCHUS KISUTCH) ","1 ADULTOS",69958,3990,279132.42,10.1,"Si",34,11.6,"No","No","No","Si","Batea",0.0,0.0,0.0]
["Fecha Muestreo","Identificador de Jaula","Tipo Estructura","Especie","Etapa de Desarrollo","N° de peces ","Peso Promedio de la Jaula[gr]","Biomasa [kg]","Temperatura[°C] ","Fotoperiodo","Salinidad [%]","Densidad [kg/m3]","T1","T2","T3","TN","Pez N° ","Juveniles","Adultos Móviles(AM)","Hembras ovígeras(HO)"]
[{"$f":"+A18","v":"2022-08-28"},107.0,"Azar","302 SALMON PLATEADO (ONCORHYNCHUS KISUTCH) ","1 ADULTOS",70096.0,3594.0,{"$f":"+(F30*G30)/1000","v":251925.024},{"$f":"+I18","v":10.1},"Si",{"$f":"+K18","v":34},10.4,"No","No","No","Si",1.0,0.0,0.0,0.0]
[{"$f":"IF(A30=\"\",\"\",A30)","v":"2022-08-28"},{"$f":"B30","v":107},"Azar","302 SALMON PLATEADO (ONCORHYNCHUS KISUTCH) ","1 ADULTOS",70096,3594,251925.024,10.1,"Si",34,10.4,"No","No","No","Si",2.0,1.0,0.0,0.0,null,null,"Semana 50 (13-DIC-2021 al 19-DIC-2021)"]
[{"$f":"A31","v":"2022-08-28"},107,"Azar","302 SALMON PLATEADO (ONCORHYNCHUS KISUTCH) ","1 ADULTOS",70096,3594,251925.024,10.1,"Si",34,10.4,"No","No","No","Si",3.0,0.0,0.0,0.0,null,null,"Semana 51 (20-DIC-2021 al 26-DIC-2021)"]
[{"$f":"A32","v":"2022-08-28"},107,"Azar","302 SALMON PLATEADO (ONCORHYNCHUS KISUTCH) ","1 ADULTOS",70096,3594,251925.024,10.1,"Si",34,10.4,"No","No","No","Si",4.0,0.0,0.0,0.0,null,null,"Semana 52 (27-DIC-2021 al 2-ENE-2022)"]
[{"$f":"A33","v":"2022-08-28"},107,"Azar","302 SALMON PLATEADO (ONCORHYNCHUS KISUTCH) ","1 ADULTOS",70096,3594,251925.024,10.1,"Si",34,10.4,"No","No","No","Si",5.0,0.0,0.0,0.0,null,null,"Semana 1 (3-ENE-2022 al 9-ENE-2022)"]
[{"$f":"A34","v":"2022-08-28"},107,"Azar","302 SALMON PLATEADO (ONCORHYNCHUS KISUTCH) ","1 ADULTOS",70096,3594,251925.024,10.1,"Si",34,10.4,"No","No","No","Si",6.0,0.0,1.0,0.0,null,null,"Semana 2 (10-ENE-2022 al 16-ENE-2022)"]
[{"$f":"A35","v":"2022-08-28"},107,"Azar","302 SALMON PLATEADO (ONCORHYNCHUS KISUTCH) ","1 ADULTOS",70096,3594,251925.024,10.1,"Si",34,10.4,"No","No","No","Si",7.0,0.0,0.0,0.0,null,null,"Semana 3 (17-ENE-2022 al 23-ENE-2022)"]
[{"$f":"A36","v":"2022-08-28"},107,"Azar","302 SALMON PLATEADO (ONCORHYNCHUS KISUTCH) ","1 ADULTOS",70096,3594,251925.024,10.1,"Si",34,10.4,"No","No","No","Si",8.0,0.0,0.0,0.0,null,null,"Semana 4 (24-ENE-2022 al 30-ENE-2022)"]
[{"$f":"A37","v":"2022-08-28"},107,"Azar","302 SALMON PLATEADO (ONCORHYNCHUS KISUTCH) ","1 ADULTOS",70096,3594,251925.024,10.1,"Si",34,10.4,"No","No","No","Si",9.0,0.0,0.0,0.0,null,null,"Semana 5 (31-ENE-2022 al 6-FEB-2022)"]
[{"$f":"A38","v":"2022-08-28"},107,"Azar","302 SALMON PLATEADO (ONCORHYNCHUS KISUTCH) ","1 ADULTOS",70096,3594,251925.024,10.1,"Si",34,10.4,"No","No","No","Si",10.0,0.0,0.0,0.0,null,null,"Semana 6 (7-FEB-2022 al 13-FEB-2022)"]
[{"$f":"A39","v":"2022-08-28"},107,"Azar","302 SALMON PLATEADO (ONCORHYNCHUS KISUTCH) ","1 ADULTOS",70096,3594,251925.024,10.1,"Si",34,10.4,"No","No","No","Si","Batea",0.0,0.0,0.0,null,null,"Semana 7 (14-FEB-2022 al 20-FEB-2022)"]
["Fecha Muestreo","Identificador de Jaula","Tipo Estructura","Especie","Etapa de Desarrollo","N° de peces ","Peso Promedio de la Jaula[gr]","Biomasa [kg]","Temperatura[°C] ","Fotoperiodo","Salinidad [%]","Densidad [kg/m3]","T1","T2","T3","TN","Pez N° ","Juveniles","Adultos Móviles(AM)","Hembras ovígeras(HO)",null,null,"Semana 8 (21-FEB-2022 al 27-FEB-2022)"]
[{"$f":"+A30","v":"2022-08-28"},108.0,"Azar","302 SALMON PLATEADO (ONCORHYNCHUS KISUTCH) ","1 ADULTOS",69975.0,3616.0,{"$f":"+(F42*G42)/1000","v":253029.6},{"$f":"+I30","v":10.1},"Si",{"$f":"+K30","v":34},10.5,"No","No","No","Si",1.0,0.0,0.0,0.0,null,null,"Semana 9 (28-FEB-2022 al 6-MAR-2022)"]
[{"$f":"IF(A42=\"\",\"\",A42)","v":"2022-08-28"},{"$f":"B42","v":108},"Azar","302 SALMON PLATEADO (ONCORHYNCHUS KISUTCH) ","1 ADULTOS",69975,3616,253029.6,10.1,"Si",34,10.5,"No","No","No","Si",2.0,0.0,1.0,0.0,null,null,"Semana 10 (7-MAR-2022 al 13-MAR-2022)"]
["2022-08-28",{"$f":"B43","v":108},"Azar","302 SALMON PLATEADO (ONCORHYNCHUS KISUTCH) ","1 ADULTOS",69975,3616,253029.6,10.1,"Si",34,10.5,"No","No","No","Si",3.0,1.0,0.0,0.0,null,null,"Semana 11 (14-MAR-2022 al 20-MAR-2022)"]
["2022-08-28",{"$f":"B44","v":108},"Azar","302 SALMON PLATEADO (ONCORHYNCHUS KISUTCH) ","1 ADULTOS",69975,3616,253029.6,10.1,"Si",34,10.5,"No","No","No","Si",4.0,0.0,0.0,0.0,null,null,"Semana 12 (21-MAR-2022 al 27-MAR-2022)"]
["2022-08-28",{"$f":"B45","v":108},"Azar","302 SALMON PLATEADO (ONCORHYNCHUS KISUTCH) ","1 ADULTOS",69975,3616,253029.6,10.1,"Si",34,10.5,"No","No","No","Si",5.0,0.0,0.0,0.0,null,null,"Semana 13 (28-MAR-2022 al 3-ABR-2022)"]
["2022-08-28",{"$f":"B46","v":108},"Azar","302 SALMON PLATEADO (ONCORHYNCHUS KISUTCH) ","1 ADULTOS",69975,3616,253029.6,10.1,"Si",34,10.5,"No","No","No","Si",6.0,0.0,1.0,0.0,null,null,"Semana 14 (4-ABR-2022 al 10-ABR-2022)"]
["2022-08-28",{"$f":"B47","v":108},"Azar","302 SALMON PLATEADO (ONCORHYNCHUS KISUTCH) ","1 ADULTOS",69975,3616,253029.6,10.1,"Si",34,10.5,"No","No","No","Si",7.0,1.0,0.0,0.0,null,null,"Semana 15 (11-ABR-2022 al 17-ABR-2022)"]
["2022-08-28",{"$f":"B48","v":108},"Azar","302 SALMON PLATEADO (ONCORHYNCHUS KISUTCH) ","1 ADULTOS",69975,3616,253029.6,10.1,"Si",34,10.5,"No","No","No","Si",8.0,0.0,0.0,0.0,null,null,"Semana 16 (18-ABR-2022 al 24-ABR-2022)"]
["2022-08-28",{"$f":"B49","v":108},"Azar","302 SALMON PLATEADO (ONCORHYNCHUS KISUTCH) ","1 ADULTOS",69975,3616,253029.6,10.1,"Si",34,10.5,"No","No","No","Si",9.0,0.0,0.0,0.0,null,null,"Semana 17 (25-ABR-2022 al 1-MAY-2022)"]
["2022-08-28",{"$f":"B50","v":108},"Azar","302 SALMON PLATEADO (ONCORHYNCHUS KISUTCH) ","1 ADULTOS",69975,3616,253029.6,10.1,"Si",34,10.5,"No","No","No","Si",10.0,0.0,0.0,0.0,null,null,"Semana 18 (2-MAY-2022 al 8-MAY-2022)"]
["2022-08-28",{"$f":"B51","v":108},"Azar","302 SALMON PLATEADO (ONCORHYNCHUS KISUTCH) ","1 ADULTOS",69975,3616,253029.6,10.1,"Si",34,10.5,"No","No","No","Si","Batea",0.0,0.0,0.0,null,null,"Semana 19 (9-MAY-2022 al 15-MAY-2022)"]
["Fecha Muestreo","Identificador de Jaula","Tipo Estructura","Especie","Etapa de Desarrollo","N° de peces ","Peso Promedio de la Jaula[gr]","Biomasa [kg]","Temperatura[°C] ","Fotoperiodo","Salinidad [%]","Densidad [kg/m3]","T1","T2","T3","TN","Pez N° ","Juveniles","Adultos Móviles(AM)","Hembras ovígeras(HO)",null,null,"Semana 20 (16-MAY-2022 al 22-MAY-2022)"]
[{"$f":"+A42","v":"2022-08-28"},114.0,"Azar","302 SALMON PLATEADO (ONCORHYNCHUS KISUTCH) ","1 ADULTOS",70091.0,3485.0,{"$f":"+(F54*G54)/1000","v":244267.135},{"$f":"+I42","v":10.1},"Si",{"$f":"+K42","v":34},10.1,"No","No","No","Si",1.0,0.0,0.0,0.0,null,null,"Semana 21 (23-MAY-2022 al 29-MAY-2022)"]
[{"$f":"IF(A54=\"\",\"\",A54)","v":"2022-08-28"},{"$f":"B54","v":114},"Azar","302 SALMON PLATEADO (ONCORHYNCHUS KISUTCH) ","1 ADULTOS",70091,3485,244267.135,10.1,"Si",34,10.1,"No","No","No","Si",2.0,0.0,0.0,0.0,null,null,"Semana 22 (30-MAY-2022 al 5-JUN-2022)"]
["2022-08-28",{"$f":"B55","v":114},"Azar","302 SALMON PLATEADO (ONCORHYNCHUS KISUTCH) ","1 ADULTOS",70091,3485,244267.135,10.1,"Si",34,10.1,"No","No","No","Si",3.0,0.0,0.0,0.0,null,null,"Semana 23 (6-JUN-2022 al 12-JUN-2022)"]
["2022-08-28",{"$f":"B56","v":114},"Azar","302 SALMON PLATEADO (ONCORHYNCHUS KISUTCH) ","1 ADULTOS",70091,3485,244267.135,10.1,"Si",34,10.1,"No","No","No","Si",4.0,0.0,0.0,0.0,null,null,"Semana 24 (13-JUN-2022 al 19-JUN-2022)"]
["2022-08-28",{"$f":"B57","v":114},"Azar","302 SALMON PLATEADO (ONCORHYNCHUS KISUTCH) ","1 ADULTOS",70091,3485,244267.135,10.1,"Si",34,10.1,"No","No","No","Si",5.0,0.0,0.0,0.0,null,null,"Semana 25 (20-JUN-2022 al 26-JUN-2022)"]
["2022-08-28",{"$f":"B58","v":114},"Azar","302 SALMON PLATEADO (ONCORHYNCHUS KISUTCH) ","1 ADULTOS",70091,3485,244267.135,10.1,"Si",34,10.1,"No","No","No","Si",6.0,1.0,0.0,0.0,null,null,"Semana 26 (27-JUN-2022 al 3-JUL-2022)"]
["2022-08-28",{"$f":"B59","v":114},"Azar","302 SALMON PLATEADO (ONCORHYNCHUS KISUTCH) ","1 ADULTOS",70091,3485,244267.135,10.1,"Si",34,10.1,"No","No","No","Si",7.0,0.0,0.0,0.0,null,null,"Semana 27 (4-JUL-2022 al 10-JUL-2022)"]
["2022-08-28",{"$f":"B60","v":114},"Azar","302 SALMON PLATEADO (ONCORHYNCHUS KISUTCH) ","1 ADULTOS",70091,3485,244267.135,10.1,"Si",34,10.1,"No","No","No","Si",8.0,0.0,0.0,0.0,null,null,"Semana 28 (11-JUL-2022 al 17-JUL-2022)"]
["2022-08-28",{"$f":"B61","v":114},"Azar","302 SALMON PLATEADO (ONCORHYNCHUS KISUTCH) ","1 ADULTOS",70091,3485,244267.135,10.1,"Si",34,10.1,"No","No","No","Si",9.0,0.0,0.0,0.0,null,null,"Semana 29 (18-JUL-2022 al 24-JUL-2022)"]
["2022-08-28",{"$f":"B62","v":114},"Azar","302 SALMON PLATEADO (ONCORHYNCHUS KISUTCH) ","1 ADULTOS",70091,3485,244267.135,10.1,"Si",34,10.1,"No","No","No","Si",10.0,0.0,0.0,0.0,null,null,"Semana 30 (25-JUL-2022 al 31-JUL-2022)"]
["2022-08-28",{"$f":"B63","v":114},"Azar","302 SALMON PLATEADO (ONCORHYNCHUS KISUTCH) ","1 ADULTOS",70091,3485,244267.135,10.1,"Si",34,10.1,"No","No","No","Si","Batea",0.0,0.0,0.0,null,null,"Semana 31 (1-AGO-2022 al 7-AGO-2022)"]
["Fecha Muestreo","Identificador de Jaula","Tipo Estructura","Especie","Etapa de Desarrollo","N° de peces ","Peso Promedio de la Jaula[gr]","Biomasa [kg]","Temperatura[°C] ","Fotoperiodo","Salinidad [%]","Densidad [kg/m3]","T1","T2","T3","TN","Pez N° ","Juveniles","Adultos Móviles(AM)","Hembras ovígeras(HO)",null,null,"Semana 32 (8-AGO-2022 al 14-AGO-2022)"]
[null,null,null,null,null,null,null,{"$f":"+(F66*G66)/1000","v":0},null,null,null,null,null,null,null,null,1.0,null,null,null,null,null,"Semana 33 (15-AGO-2022 al 21-AGO-2022)"]
[{"$f":"IF(A66=\"\",\"\",A66)","v":""},{"$f":"B66","v":""},"","","","","",0,"","","","","","","","",2.0,null,null,null,null,null,"Semana 34 (22-AGO-2022 al 28-AGO-2022)"]
["",{"$f":"B67","v":""},"","","","","",0,"","","","","","","","",3.0,null,null,null,null,null,"Semana 35 (29-AGO-2022 al 4-SEP-2022)"]
["",{"$f":"B68","v":""},"","","","","",0,"","","","","","","","",4.0,null,null,null,null,null,"Semana 36 (5-SEP-2022 al 11-SEP-2022)"]
["",{"$f":"B69","v":""},"","","","","",0,"","","","","","","","",5.0,null,null,null,null,null,"Semana 37 (12-SEP-2022 al 18-SEP-2022)"]
["",{"$f":"B70","v":""},"","","","","",0,"","","","","","","","",6.0,null,null,null,null,null,"Semana 38 (19-SEP-2022 al 25-SEP-2022)"]
["",{"$f":"B71","v":""},"","","","","",0,"","","","","","","","",7.0,null,null,null,null,null,"Semana 39 (26-SEP-2022 al 2-OCT-2022)"]
["",{"$f":"B72","v":""},"","","","","",0,"","","","","","","","",8.0,null,null,null,null,null,"Semana 40 (3-OCT-2022 al 9-OCT-2022)"]
["",{"$f":"B73","v":""},"","","","","",0,"","","","","","","","",9.0,null,null,null,null,null,"Semana 41 (10-OCT-2022 al 16-OCT-2022)"]
["",{"$f":"B74","v":""},"","","","","",0,"","","","","","","","",10.0,null,null,null,null,null,"Semana 42 (17-OCT-2022 al 23-OCT-2022)"]
["",{"$f":"B75","v":""},"","","","","",0,"","","","","","","","","Batea",null,null,null,null,null,"Semana 43 (24-OCT-2022 al 30-OCT-2022)"]
["Fecha Muestreo","Identificador de Jaula","Tipo Estructura","Especie","Etapa de Desarrollo","N° de peces ","Peso Promedio de la Jaula[gr]","Biomasa [kg]","Temperatura[°C] ","Fotoperiodo","Salinidad [%]","Densidad [kg/m3]","T1","T2","T3","TN","Pez N° ","Juveniles","Adultos Móviles(AM)","Hembras ovígeras(HO)",null,null,"Semana 44 (31-OCT-2022 al 6-NOV-2022)"]
[null,null,null,null,null,null,null,{"$f":"+(F78*G78)/1000","v":0},null,null,null,null,null,null,null,null,1.0,null,null,null,null,null,"Semana 45 (7-NOV-2022 al 13-NOV-2022)"]
[{"$f":"IF(A78=\"\",\"\",A78)","v":""},{"$f":"B78","v":""},"","","","","",0,"","","","","","","","",2.0,null,null,null,null,null,"Semana 46 (14-NOV-2022 al 20-NOV-2022)"]
["",{"$f":"B79","v":""},"","","","","",0,"","","","","","","","",3.0,null,null,null,null,null,"Semana 47 (21-NOV-2022 al 27-NOV-2022)"]
["",{"$f":"B80","v":""},"","","","","",0,"","","","","","","","",4.0,null,null,null,null,null,"Semana 48 (28-NOV-2022 al 4-DIC-2022)"]
["",{"$f":"B81","v":""},"","","","","",0,"","","","","","","","",5.0,null,null,null,null,null,"Semana 49 (5-DIC-2022 al 11-DIC-2022)"]
["",{"$f":"B82","v":""},"","","","","",0,"","","","","","","","",6.0,null,null,null,null,null,"Semana 50 (12-DIC-2022 al 18-DIC-2022)"]
["",{"$f":"B83","v":""},"","","","","",0,"","","","","","","","",7.0,null,null,null,null,null,"Semana 51 (19-DIC-2022 al 25-DIC-2022)"]
["",{"$f":"B84","v":""},"","","","","",0,"","","","","","","","",8.0,null,null,null,null,null,"Semana 52 (26-DIC-2022 al 1-ENE-2023)"]
["",{"$f":"B85","v":""},"","","","","",0,"","","","","","","","",9.0]
["",{"$f":"B86","v":""},"","","","","",0,"","","","","","","","",10.0]
["",{"$f":"B87","v":""},"","","","","",0,"","","","","","","","","Batea"]
["Fecha Muestreo","Identificador de Jaula","Tipo Estructura","Especie","Etapa de Desarrollo","N° de peces ","Peso Promedio de la Jaula[gr]","Biomasa [kg]","Temperatura[°C] ","Fotoperiodo","Salinidad [%]","Densidad [kg/m3]","T1","T2","T3","TN","Pez N° ","Juveniles","Adultos Móviles(AM)","Hembras ovígeras(HO)"]
[null,null,null,null,null,null,null,{"$f":"+(F90*G90)/1000","v":0},null,null,null,null,null,null,null,null,1.0]
[{"$f":"IF(A90=\"\",\"\",A90)","v":""},{"$f":"B90","v":""},"","","","","",0,"","","","","","","","",2.0]
["",{"$f":"B91","v":""},"","","","","",0,"","","","","","","","",3.0]
["",{"$f":"B92","v":""},"","","","","",0,"","","","","","","","",4.0]
["",{"$f":"B93","v":""},"","","","","",0,"","","","","","","","",5.0]
["",{"$f":"B94","v":""},"","","","","",0,"","","","","","","","",6.0]
["",{"$f":"B95","v":""},"","","","","",0,"","","","","","","","",7.0]
["",{"$f":"B96","v":""},"","","","","",0,"","","","","","","","",8.0]
["",{"$f":"B97","v":""},"","","","","",0,"","","","","","","","",9.0]
["",{"$f":"B98","v":""},"","","","","",0,"","","","","","","","",10.0]
["",{"$f":"B99","v":""},"","","","","",0,"","","","","","","","","Batea"]
["Fecha Muestreo","Identificador de Jaula","Tipo Estructura","Especie","Etapa de Desarrollo","N° de peces ","Peso Promedio de la Jaula[gr]","Biomasa [kg]","Temperatura[°C] ","Fotoperiodo","Salinidad [%]","Densidad [kg/m3]","T1","T2","T3","TN","Pez N° ","Juveniles","Adultos Móviles(AM)","Hembras ovígeras(HO)"]
[null,null,null,null,null,null,null,{"$f":"+(F102*G102)/1000","v":0},null,null,null,null,null,null,null,null,1.0]
[{"$f":"IF(A102=\"\",\"\",A102)","v":""},{"$f":"B102","v":""},"","","","","",0,"","","","","","","","",2.0]
["",{"$f":"B103","v":""},"","","","","",0,"","","","","","","","",3.0]
["",{"$f":"B104","v":""},"","","","","",0,"","","","","","","","",4.0]
["",{"$f":"B105","v":""},"","","","","",0,"","","","","","","","",5.0]
["",{"$f":"B106","v":""},"","","","","",0,"","","","","","","","",6.0]
["",{"$f":"B107","v":""},"","","","","",0,"","","","","","","","",7.0]
["",{"$f":"B108","v":""},"","","","","",0,"","","","","","","","",8.0]
["",{"$f":"B109","v":""},"","","","","",0,"","","","","","","","",9.0]
["",{"$f":"B110","v":""},"","","","","",0,"","","","","","","","",10.0]
["",{"$f":"B111","v":""},"","","","","",0,"","","","","","","","","Batea"]
[]
[]
[]
[]
[]
[null,"1. Control de uso de Aparatos Acústicos Disuasivos (AAD) o Aparatos Acústicos de Hostigamiento (AAH) para el control de Depredadores."]
[]
[null,"N° días al mes","Semana 34  28/08/2022"]
[null,"Equipo","MAYO "]
[null,"AAD",0.0]
[null,"AAH",0.0]
[null,null,null,"         "]
[]
[null,"2. Incidentes Mortales (1) en Mamiferos Marinos, Aves u otras especies."]
[]
[null,"N° de Incidentes al mes"]
[null,"Mamíferos / Aves","Semana 34 28/08/2022"]
[null,"Mamíferos Marinos",0.0]
[null,"Aves",0.0]

{"sheet":"BITACORA","index":1,"n_rows":41,"n_cols":18,"rows_kept":41,"cut":false,"hidden":false,"merged":[[1,4,1,11],[36,3,36,4],[37,3,37,4]]}
[]
[null,null,null,null,{"$f":"+'Planilla caligus SIFA'!B9","v":"Semana 34 (22-AGO-2022 al 28-AGO-2022)"}]
[null,null,"Jaula",{"$f":"+'Planilla caligus SIFA'!B18","v":101},{"$f":"+'Planilla caligus SIFA'!A18","v":"2022-08-28"},null,null,null,null,"Jaula",{"$f":"+'Planilla caligus SIFA'!B30","v":107},{"$f":"+E3","v":"2022-08-28"}]
[null,null,"Caligus","Juveniles","Adultos Móviles(AM)","Hembras ovígeras(HO)","Total adultos",null,null,"Caligus","Juveniles","Adultos Móviles(AM)","Hembras ovígeras(HO)","Total adultos"]
[null,null,1.0,{"$f":"+'Planilla caligus SIFA'!R18","v":0},{"$f":"+'Planilla caligus SIFA'!S18","v":0},{"$f":"+'Planilla caligus SIFA'!T18","v":0},{"$f":"SUM(E5:F5)","v":0},null,null,1.0,{"$f":"+'Planilla caligus SIFA'!R30","v":0},{"$f":"+'Planilla caligus SIFA'!S30","v":0},{"$f":"+'Planilla caligus SIFA'!T30","v":0},{"$f":"SUM(L5:M5)","v":0}]
[null,null,2.0,{"$f":"+'Planilla caligus SIFA'!R19","v":0},{"$f":"+'Planilla caligus SIFA'!S19","v":0},{"$f":"+'Planilla caligus SIFA'!T19","v":0},0,null,null,2.0,{"$f":"+'Planilla caligus SIFA'!R31","v":1},{"$f":"+'Planilla caligus SIFA'!S31","v":0},{"$f":"+'Planilla caligus SIFA'!T31","v":0},0,null,null,null," "]
[null,null,3.0,{"$f":"+'Planilla caligus SIFA'!R20","v":0},{"$f":"+'Planilla caligus SIFA'!S20","v":0},{"$f":"+'Planilla caligus SIFA'!T20","v":0},0,null,null,3.0,{"$f":"+'Planilla caligus SIFA'!R32","v":0},{"$f":"+'Planilla caligus SIFA'!S32","v":0},{"$f":"+'Planilla caligus SIFA'!T32","v":0},0]
[null,null,4.0,{"$f":"+'Planilla caligus SIFA'!R21","v":1},{"$f":"+'Planilla caligus SIFA'!S21","v":0},{"$f":"+'Planilla caligus SIFA'!T21","v":0},0,null,null,4.0,{"$f":"+'Planilla caligus SIFA'!R33","v":0},{"$f":"+'Planilla caligus SIFA'!S33","v":0},{"$f":"+'Planilla caligus SIFA'!T33","v":0},0]
[null,null,5.0,{"$f":"+'Planilla caligus SIFA'!R22","v":0},{"$f":"+'Planilla caligus SIFA'!S22","v":0},{"$f":"+'Planilla caligus SIFA'!T22","v":0},0,null,null,5.0,{"$f":"+'Planilla caligus SIFA'!R34","v":0},{"$f":"+'Planilla caligus SIFA'!S34","v":0},{"$f":"+'Planilla caligus SIFA'!T34","v":0},0]
[null,null,6.0,{"$f":"+'Planilla caligus SIFA'!R23","v":0},{"$f":"+'Planilla caligus SIFA'!S23","v":0},{"$f":"+'Planilla caligus SIFA'!T23","v":0},0,null,null,6.0,{"$f":"+'Planilla caligus SIFA'!R35","v":0},{"$f":"+'Planilla caligus SIFA'!S35","v":1},{"$f":"+'Planilla caligus SIFA'!T35","v":0},1]
[null,null,7.0,{"$f":"+'Planilla caligus SIFA'!R24","v":0},{"$f":"+'Planilla caligus SIFA'!S24","v":0},{"$f":"+'Planilla caligus SIFA'!T24","v":0},0,null,null,7.0,{"$f":"+'Planilla caligus SIFA'!R36","v":0},{"$f":"+'Planilla caligus SIFA'!S36","v":0},{"$f":"+'Planilla caligus SIFA'!T36","v":0},0]
[null,null,8.0,{"$f":"+'Planilla caligus SIFA'!R25","v":1},{"$f":"+'Planilla caligus SIFA'!S25","v":0},{"$f":"+'Planilla caligus SIFA'!T25","v":0},0,null,null,8.0,{"$f":"+'Planilla caligus SIFA'!R37","v":0},{"$f":"+'Planilla caligus SIFA'!S37","v":0},{"$f":"+'Planilla caligus SIFA'!T37","v":0},0]
[null,null,9.0,{"$f":"+'Planilla caligus SIFA'!R26","v":0},{"$f":"+'Planilla caligus SIFA'!S26","v":0},{"$f":"+'Planilla caligus SIFA'!T26","v":0},0,null,null,9.0,{"$f":"+'Planilla caligus SIFA'!R38","v":0},{"$f":"+'Planilla caligus SIFA'!S38","v":0},{"$f":"+'Planilla caligus SIFA'!T38","v":0},0]
[null,null,10.0,{"$f":"+'Planilla caligus SIFA'!R27","v":0},{"$f":"+'Planilla caligus SIFA'!S27","v":0},{"$f":"+'Planilla caligus SIFA'!T27","v":0},0,null,null,10.0,{"$f":"+'Planilla caligus SIFA'!R39","v":0},{"$f":"+'Planilla caligus SIFA'!S39","v":0},{"$f":"+'Planilla caligus SIFA'!T39","v":0},0]
[null,null,"batea",{"$f":"+'Planilla caligus SIFA'!R28","v":0},{"$f":"+'Planilla caligus SIFA'!S28","v":0},{"$f":"+'Planilla caligus SIFA'!T28","v":0},0,null,null,"batea",{"$f":"+'Planilla caligus SIFA'!R40","v":0},{"$f":"+'Planilla caligus SIFA'!S40","v":0},{"$f":"+'Planilla caligus SIFA'!T40","v":0},0]
[null,null,"promedio",{"$f":"+SUM(D5:D15)/10","v":0.2},0,0,0,null,null,"promedio",{"$f":"+SUM(K5:K15)/10","v":0.1},0.1,0,0.1]
[]
[]
[null,null,"Jaula",{"$f":"+'Planilla caligus SIFA'!B42","v":108},{"$f":"+L3","v":"2022-08-28"},null,null,null,null,"Jaula",{"$f":"+'Planilla caligus SIFA'!B54","v":114},{"$f":"+E19","v":"2022-08-28"}]
[null,null,"Caligus","Juveniles","Adultos Móviles(AM)","Hembras ovígeras(HO)","Total adultos",null,null,"Caligus","Juveniles","Adultos Móviles(AM)","Hembras ovígeras(HO)","Total adultos"]
[null,null,1.0,{"$f":"+'Planilla caligus SIFA'!R42","v":0},{"$f":"+'Planilla caligus SIFA'!S42","v":0},{"$f":"+'Planilla caligus SIFA'!T42","v":0},{"$f":"SUM(E21:F21)","v":0},null,null,1.0,{"$f":"+'Planilla caligus SIFA'!R54","v":0},{"$f":"+'Planilla caligus SIFA'!S54","v":0},{"$f":"+'Planilla caligus SIFA'!T54","v":0},{"$f":"SUM(L21:M21)","v":0}]
[null,null,2.0,{"$f":"+'Planilla caligus SIFA'!R43","v":0},{"$f":"+'Planilla caligus SIFA'!S43","v":1},{"$f":"+'Planilla caligus SIFA'!T43","v":0},1,null,null,2.0,{"$f":"+'Planilla caligus SIFA'!R55","v":0},{"$f":"+'Planilla caligus SIFA'!S55","v":0},{"$f":"+'Planilla caligus SIFA'!T55","v":0},0]
[null,null,3.0,{"$f":"+'Planilla caligus SIFA'!R44","v":1},{"$f":"+'Planilla caligus SIFA'!S44","v":0},{"$f":"+'Planilla caligus SIFA'!T44","v":0},0,null,null,3.0,{"$f":"+'Planilla caligus SIFA'!R56","v":0},{"$f":"+'Planilla caligus SIFA'!S56","v":0},{"$f":"+'Planilla caligus SIFA'!T56","v":0},0]
[null,null,4.0,{"$f":"+'Planilla caligus SIFA'!R45","v":0},{"$f":"+'Planilla caligus SIFA'!S45","v":0},{"$f":"+'Planilla caligus SIFA'!T45","v":0},0,null,null,4.0,{"$f":"+'Planilla caligus SIFA'!R57","v":0},{"$f":"+'Planilla caligus SIFA'!S57","v":0},{"$f":"+'Planilla caligus SIFA'!T57","v":0},0]
[null,null,5.0,{"$f":"+'Planilla caligus SIFA'!R46","v":0},{"$f":"+'Planilla caligus SIFA'!S46","v":0},{"$f":"+'Planilla caligus SIFA'!T46","v":0},0,null,null,5.0,{"$f":"+'Planilla caligus SIFA'!R58","v":0},{"$f":"+'Planilla caligus SIFA'!S58","v":0},{"$f":"+'Planilla caligus SIFA'!T58","v":0},0]
[null,null,6.0,{"$f":"+'Planilla caligus SIFA'!R47","v":0},{"$f":"+'Planilla caligus SIFA'!S47","v":1},{"$f":"+'Planilla caligus SIFA'!T47","v":0},1,null,null,6.0,{"$f":"+'Planilla caligus SIFA'!R59","v":1},{"$f":"+'Planilla caligus SIFA'!S59","v":0},{"$f":"+'Planilla caligus SIFA'!T59","v":0},0]
[null,null,7.0,{"$f":"+'Planilla caligus SIFA'!R48","v":1},{"$f":"+'Planilla caligus SIFA'!S48","v":0},{"$f":"+'Planilla caligus SIFA'!T48","v":0},0,null,null,7.0,{"$f":"+'Planilla caligus SIFA'!R60","v":0},{"$f":"+'Planilla caligus SIFA'!S60","v":0},{"$f":"+'Planilla caligus SIFA'!T60","v":0},0]
[null,null,8.0,{"$f":"+'Planilla caligus SIFA'!R49","v":0},{"$f":"+'Planilla caligus SIFA'!S49","v":0},{"$f":"+'Planilla caligus SIFA'!T49","v":0},0,null,null,8.0,{"$f":"+'Planilla caligus SIFA'!R61","v":0},{"$f":"+'Planilla caligus SIFA'!S61","v":0},{"$f":"+'Planilla caligus SIFA'!T61","v":0},0]
[null,null,9.0,{"$f":"+'Planilla caligus SIFA'!R50","v":0},{"$f":"+'Planilla caligus SIFA'!S50","v":0},{"$f":"+'Planilla caligus SIFA'!T50","v":0},0,null,null,9.0,{"$f":"+'Planilla caligus SIFA'!R62","v":0},{"$f":"+'Planilla caligus SIFA'!S62","v":0},{"$f":"+'Planilla caligus SIFA'!T62","v":0},0]
[null,null,10.0,{"$f":"+'Planilla caligus SIFA'!R51","v":0},{"$f":"+'Planilla caligus SIFA'!S51","v":0},{"$f":"+'Planilla caligus SIFA'!T51","v":0},0,null,null,10.0,{"$f":"+'Planilla caligus SIFA'!R63","v":0},{"$f":"+'Planilla caligus SIFA'!S63","v":0},{"$f":"+'Planilla caligus SIFA'!T63","v":0},0]
[null,null,"batea",{"$f":"+'Planilla caligus SIFA'!R52","v":0},{"$f":"+'Planilla caligus SIFA'!S52","v":0},{"$f":"+'Planilla caligus SIFA'!T52","v":0},0,null,null,"batea",{"$f":"+'Planilla caligus SIFA'!R64","v":0},{"$f":"+'Planilla caligus SIFA'!S64","v":0},{"$f":"+'Planilla caligus SIFA'!T64","v":0},0]
[null,null,"promedio",{"$f":"+SUM(D21:D31)/10","v":0.2},0.2,0,0.2,null,null,"promedio",{"$f":"+SUM(K21:K31)/10","v":0.1},0,0,0]
[]
[]
[]
[null,null,"Responsable",{"$f":"+'Planilla caligus SIFA'!B6","v":"Marco Antonio"},{"$f":"+'Planilla caligus SIFA'!B7","v":"Jaramillo Cárdenas"}]
[null,null,"Rut:",{"$f":"+'Planilla caligus SIFA'!B5","v":"16.343.348-6"}]
[null,null,"Fecha",{"$f":"+'Planilla caligus SIFA'!B3","v":"2022-08-28"}]
[]
[]
[null,null,"Firma"]

{"sheet":"RESUMEN","index":2,"n_rows":7,"n_cols":7,"rows_kept":7,"cut":false,"hidden":false,"merged":[]}
[]
[null,"Fecha Muestreo","Identificador de Jaula","Juveniles","Adultos Móviles(AM)","Hembras ovígeras(HO)","Adultos Totales"]
[null,{"$f":"+'Planilla caligus SIFA'!B3","v":"2022-08-28"},{"$f":"+'Planilla caligus SIFA'!B18","v":101},{"$f":"+BITACORA!D16","v":0.2},{"$f":"+BITACORA!E16","v":0},{"$f":"+BITACORA!F16","v":0},{"$f":"SUM(E3:F3)","v":0}]
[null,{"$f":"+B3","v":"2022-08-28"},{"$f":"+'Planilla caligus SIFA'!B30","v":107},{"$f":"+BITACORA!K16","v":0.1},{"$f":"+BITACORA!L16","v":0.1},{"$f":"+BITACORA!M16","v":0},0.1]
[null,"2022-08-28",{"$f":"+'Planilla caligus SIFA'!B42","v":108},{"$f":"+BITACORA!D32","v":0.2},{"$f":"+BITACORA!E32","v":0.2},{"$f":"+BITACORA!F32","v":0},0.2]
[null,"2022-08-28",{"$f":"+'Planilla caligus SIFA'!B54","v":114},{"$f":"+BITACORA!K32","v":0.1},{"$f":"+BITACORA!L32","v":0},{"$f":"+BITACORA!M32","v":0},0]
[null,null,null,{"$f":"AVERAGE(D3:D6)","v":0.15},0.075,0,0.075]

{"sheet":"Hoja3","index":3,"n_rows":0,"n_cols":0,"rows_kept":0,"cut":false,"hidden":false,"merged":[]}