{"text_format":"1","workbook":"xlsx","n_sheets":3,"sheets":["Planilla caligus SIFA","Resumen","Bitacora"],"not_rendered":{"charts":0,"images":0,"macros":1,"external_links":0,"defined_names":0,"comments":1,"pivot_tables":0},"unopened":[],"bounds":{"document_bytes":16777216,"sheet_cells":100000,"rows_first":2000,"rows_last":500,"rows_between":2000,"halvings":0,"cell_chars":16384,"cell_head_chars":4096},"cells_cut":0,"cells_raw":0,"read":"whole","date_system":"1900"}

{"sheet":"Planilla caligus SIFA","index":0,"n_rows":125,"n_cols":27,"rows_kept":125,"cut":false,"hidden":false,"merged":[[4,7,4,12],[5,7,5,12]]}
["Información General del Centro",null,"Especies del Centro",null,null,null,null,null,null,null,null,null,null,null,null,null,null,null,null,null,null,"Azar"]
[]
["Fecha Declaración:","2021-10-28","Especie N°1:","301 SALMON DEL ATLANTICO (SALMO SALAR) ","N° Jaulas Pobladas",8.0,null,"T1= Realiza Tratamiento en la quincena con fármacos antiparasitarios con acción sobre adultos  ",null,null,null,null,null,null,null,null,null,null,null,null,null,null,null,null,null,null,"301 SALMON DEL ATLANTICO (SALMO SALAR) "]
["Código Centro:",103846.0,"Especie N°2:",null,"N° Jaulas Pobladas",null,null,"T2 = Realiza Tratamiento en la quincena con fármacos antiparasitarios con acción sobre juveniles",null,null,null,null,null,null,null,null,null,null,null,null,null,null,null,null,null,null,"302 SALMON PLATEADO (ONCORHYNCHUS KISUTCH) "]
["Rut Responsable del Muestreo:","14457118-5","Especie N°3:",null,"N° Jaulas Pobladas",null,null,"T3 = Realiza Tratamiento en la quincena con fármacos antiparasitarios con acción sobre ambos estadios",null,null,null,null,null,null,null,null,null,null,null,null,null,null,null,null,null,null,"303 SALMON REY (ONCORHYNCHUS TSHAWYTSCHA)"]
["Nombres Responsable Muestreo","SEBASTIAN ","Especie N°4:",null,"N° Jaulas Pobladas",null,null,"TN = No Realiza Tratamiento con fármacos antiparasitarios ",null,null,null,null,null,null,null,null,null,null,null,null,null,null,null,null,null,null,"304 SALMON CEREZA (ONCORHYNCHUS MASOU) "]
["ApellidosResponsable Muestreo","BARRIA BARRIA ","Especie N°5:",null,"N° Jaulas Pobladas",null,null,null,null,null,null,null,null,null,null,null,null,null,null,null,null,null,null,null,null,null,"305 SALMON KETA (ONCORHYNCHUS KETA) "]
["Es Muestreador Calificado","Si","Especie N°6:",null,"N° Jaulas Pobladas",null,null,null,null,null,null,null,null,null,null,null,null,null,null,null,null,null,null,null,null,null,"306 SALMON ROSADO (ONCORHYNCHUS GORBUSSCHA)"]
["Período:","Semana 43 (25-OCT-2021 al 31-OCT-2021)","Especie N°7:",null,"N° Jaulas Pobladas",null,null,null,null,null,null,null,null,null,null,null,null,null,null,null,null,null,null,null,null,null,"311 TRUCHA ARCO IRIS (ONCORHYNCHUS MYKISS) "]
["Total jaulas pobladas del centro:",8.0,"Especie N°8:",null,"N° Jaulas Pobladas",null,null,null,null,null,null,null,null,null,null,null,null,null,null,null,null,"Si",null,null,null,null,"312 TRUCHA CAFÉ (SALMO TRUTTA) "]
["Peso promedio del centro [gr]:",335.0,null,null,null,null,null,null,null,null,null,null,null,null,null,null,null,null,null,null,null,"No",null,null,null,null,"313 TRUCHA DE ARROYO (SALVELINUS FONTINALIS) "]
["Número total de peces del centro:",813640.0,null,null,null,null,null,null,null,null,null,null,null,null,null,null,null,null,null,null,null,null,null,null,null,null,"315 TRUCHA DE LA MONTAÑA"]
["Biomasa [kg]:",{"$f":"+B11*B12/1000","v":272569.4}]
[]
["Información por Jaula"]
[null,null,null,null,null,null,null,null,null,null,null,null,null,null,null,null,null,null,null,null,null,null,"0 SELECCIONE"]
["Fecha Muestreo","Identificador de Jaula","Tipo Estructura","Especie","Etapa de Desarrollo","N° de peces ","Peso Promedio de la Jaula[gr]","Biomasa [kg]","Temperatura[°C] ","Fotoperiodo","Salinidad [%]","Densidad [kg/m3]","T1","T2","T3","TN","Pez N° ","Juveniles","Adultos Móviles(AM)","Hembras ovígeras(HO)",null,null,"1 ADULTOS"]
["2021-10-28",101.0,"Azar","301 SALMON DEL ATLANTICO (SALMO SALAR) ","1 ADULTOS",101954.0,370.0,{"$f":"+(F18*G18)/1000","v":37722.98},12.7,"No",33.0,1.3,"No","No","No","Si",1.0,0.0,0.0,0.0,null,null,"6 SMOLTS"]
[{"$f":"IF(A18=\"\",\"\",A18)","v":"2021-10-28"},{"$f":"B18","v":101},"Azar","301 SALMON DEL ATLANTICO (SALMO SALAR) ","1 ADULTOS",101954,370,37722.98,12.7,"No",33,1.3,"No","No","No","Si",2.0,0.0,0.0,0.0,null,null,"7 JUVENILES"]
[{"$f":"A19","v":"2021-10-28"},101,"Azar","301 SALMON DEL ATLANTICO (SALMO SALAR) ","1 ADULTOS",101954,370,37722.98,12.7,"No",33,1.3,"No","No","No","Si",3.0,0.0,0.0,0.0,null,null,"8 REPRODUCTORES"]
[{"$f":"A20","v":"2021-10-28"},101,"Azar","301 SALMON DEL ATLANTICO (SALMO SALAR) ","1 ADULTOS",101954,370,37722.98,12.7,"No",33,1.3,"No","No","No","Si",4.0,0.0,0.0,0.0]
[{"$f":"A21","v":"2021-10-28"},101,"Azar","301 SALMON DEL ATLANTICO (SALMO SALAR) ","1 ADULTOS",101954,370,37722.98,12.7,"No",33,1.3,"No","No","No","Si",5.0,1.0,0.0,0.0]
[{"$f":"A22","v":"2021-10-28"},101,"Azar","301 SALMON DEL ATLANTICO (SALMO SALAR) ","1 ADULTOS",101954,370,37722.98,12.7,"No",33,1.3,"No","No","No","Si",6.0,0.0,0.0,0.0]
[{"$f":"A23","v":"2021-10-28"},101,"Azar","301 SALMON DEL ATLANTICO (SALMO SALAR) ","1 ADULTOS",101954,370,37722.98,12.7,"No",33,1.3,"No","No","No","Si",7.0,0.0,0.0,0.0]
[{"$f":"A24","v":"2021-10-28"},101,"Azar","301 SALMON DEL ATLANTICO (SALMO SALAR) ","1 ADULTOS",101954,370,37722.98,12.7,"No",33,1.3,"No","No","No","Si",8.0,0.0,0.0,0.0]
[{"$f":"A25","v":"2021-10-28"},101,"Azar","301 SALMON DEL ATLANTICO (SALMO SALAR) ","1 ADULTOS",101954,370,37722.98,12.7,"No",33,1.3,"No","No","No","Si",9.0,0.0,0.0,0.0]
[{"$f":"A26","v":"2021-10-28"},101,"Azar","301 SALMON DEL ATLANTICO (SALMO SALAR) ","1 ADULTOS",101954,370,37722.98,12.7,"No",33,1.3,"No","No","No","Si",10.0,0.0,0.0,0.0]
[{"$f":"A27","v":"2021-10-28"},101,"Azar","301 SALMON DEL ATLANTICO (SALMO SALAR) ","1 ADULTOS",101954,370,37722.98,12.7,"No",33,1.3,"No","No","No","Si","Batea",0.0,0.0,0.0]
["Fecha Muestreo","Identificador de Jaula","Tipo Estructura","Especie","Etapa de Desarrollo","N° de peces ","Peso Promedio de la Jaula[gr]","Biomasa [kg]","Temperatura[°C] ","Fotoperiodo","Salinidad [%]","Densidad [kg/m3]","T1","T2","T3","TN","Pez N° ","Juveniles","Adultos Móviles(AM)","Hembras ovígeras(HO)"]
["2021-10-28",103.0,"Azar","301 SALMON DEL ATLANTICO (SALMO SALAR) ","1 ADULTOS",102001.0,343.0,{"$f":"+(F30*G30)/1000","v":34986.343},12.7,"No",33.0,1.3,"No","No","No","Si",1.0,0.0,0.0,0.0]
[{"$f":"IF(A30=\"\",\"\",A30)","v":"2021-10-28"},{"$f":"B30","v":103},"Azar","301 SALMON DEL ATLANTICO (SALMO SALAR) ","1 ADULTOS",102001,343,34986.343,12.7,"No",33,1.3,"No","No","No","Si",2.0,0.0,0.0,0.0]
[{"$f":"A31","v":"2021-10-28"},103,"Azar","301 SALMON DEL ATLANTICO (SALMO SALAR) ","1 ADULTOS",102001,343,34986.343,12.7,"No",33,1.3,"No","No","No","Si",3.0,0.0,0.0,0.0]
[{"$f":"A32","v":"2021-10-28"},103,"Azar","301 SALMON DEL ATLANTICO (SALMO SALAR) ","1 ADULTOS",102001,343,34986.343,12.7,"No",33,1.3,"No","No","No","Si",4.0,0.0,0.0,0.0]
[{"$f":"A33","v":"2021-10-28"},103,"Azar","301 SALMON DEL ATLANTICO (SALMO SALAR) ","1 ADULTOS",102001,343,34986.343,12.7,"No",33,1.3,"No","No","No","Si",5.0,0.0,0.0,0.0,null,null,"Semana 1 (4-ENE-2021 al 10-ENE-2021)"]
[{"$f":"A34","v":"2021-10-28"},103,"Azar","301 SALMON DEL ATLANTICO (SALMO SALAR) ","1 ADULTOS",102001,343,34986.343,12.7,"No",33,1.3,"No","No","No","Si",6.0,0.0,0.0,0.0,null,null,"Semana 2 (11-ENE-2021 al 17-ENE-2021)"]
[{"$f":"A35","v":"2021-10-28"},103,"Azar","301 SALMON DEL ATLANTICO (SALMO SALAR) ","1 ADULTOS",102001,343,34986.343,12.7,"No",33,1.3,"No","No","No","Si",7.0,0.0,0.0,0.0,null,null,"Semana 3 (18-ENE-2021 al 24-ENE-2021)"]
[{"$f":"A36","v":"2021-10-28"},103,"Azar","301 SALMON DEL ATLANTICO (SALMO SALAR) ","1 ADULTOS",102001,343,34986.343,12.7,"No",33,1.3,"No","No","No","Si",8.0,0.0,0.0,0.0,null,null,"Semana 4 (25-ENE-2021 al 31-ENE-2021)"]
[{"$f":"A37","v":"2021-10-28"},103,"Azar","301 SALMON DEL ATLANTICO (SALMO SALAR) ","1 ADULTOS",102001,343,34986.343,12.7,"No",33,1.3,"No","No","No","Si",9.0,0.0,0.0,0.0,null,null,"Semana 5 (1-FEB-2021 al 7-FEB-2021)"]
[{"$f":"A38","v":"2021-10-28"},103,"Azar","301 SALMON DEL ATLANTICO (SALMO SALAR) ","1 ADULTOS",102001,343,34986.343,12.7,"No",33,1.3,"No","No","No","Si",10.0,0.0,0.0,0.0,null,null,"Semana 6 (8-FEB-2021 al 14-FEB-2021)"]
[{"$f":"A39","v":"2021-10-28"},103,"Azar","301 SALMON DEL ATLANTICO (SALMO SALAR) ","1 ADULTOS",102001,343,34986.343,12.7,"No",33,1.3,"No","No","No","Si","Batea",0.0,0.0,0.0,null,null,"Semana 7 (15-FEB-2021 al 21-FEB-2021)"]
["Fecha Muestreo","Identificador de Jaula","Tipo Estructura","Especie","Etapa de Desarrollo","N° de peces ","Peso Promedio de la Jaula[gr]","Biomasa [kg]","Temperatura[°C] ","Fotoperiodo","Salinidad [%]","Densidad [kg/m3]","T1","T2","T3","TN","Pez N° ","Juveniles","Adultos Móviles(AM)","Hembras ovígeras(HO)",null,null,"Semana 8 (22-FEB-2021 al 28-FEB-2021)"]
["2021-10-28",106.0,"Azar","301 SALMON DEL ATLANTICO (SALMO SALAR) ","1 ADULTOS",101577.0,353.0,{"$f":"+(F42*G42)/1000","v":35856.681},12.7,"No",33.0,1.4,"No","No","No","Si",1.0,0.0,0.0,0.0,null,null,"Semana 9 (1-MAR-2021 al 7-MAR-2021)"]
[{"$f":"IF(A42=\"\",\"\",A42)","v":"2021-10-28"},{"$f":"B42","v":106},"Azar","301 SALMON DEL ATLANTICO (SALMO SALAR) ","1 ADULTOS",101577,353,35856.681,12.7,"No",33,1.4,"No","No","No","Si",2.0,0.0,0.0,0.0,null,null,"Semana 10 (8-MAR-2021 al 14-MAR-2021)"]
["2021-10-28",{"$f":"B43","v":106},"Azar","301 SALMON DEL ATLANTICO (SALMO SALAR) ","1 ADULTOS",101577,353,35856.681,12.7,"No",33,1.4,"No","No","No","Si",3.0,0.0,0.0,0.0,null,null,"Semana 11 (15-MAR-2021 al 21-MAR-2021)"]
["2021-10-28",{"$f":"B44","v":106},"Azar","301 SALMON DEL ATLANTICO (SALMO SALAR) ","1 ADULTOS",101577,353,35856.681,12.7,"No",33,1.4,"No","No","No","Si",4.0,0.0,0.0,0.0,null,null,"Semana 12 (22-MAR-2021 al 28-MAR-2021)"]
["2021-10-28",{"$f":"B45","v":106},"Azar","301 SALMON DEL ATLANTICO (SALMO SALAR) ","1 ADULTOS",101577,353,35856.681,12.7,"No",33,1.4,"No","No","No","Si",5.0,0.0,0.0,0.0,null,null,"Semana 13 (29-MAR-2021 al 4-ABR-2021)"]
["2021-10-28",{"$f":"B46","v":106},"Azar","301 SALMON DEL ATLANTICO (SALMO SALAR) ","1 ADULTOS",101577,353,35856.681,12.7,"No",33,1.4,"No","No","No","Si",6.0,0.0,0.0,0.0,null,null,"Semana 14 (5-ABR-2021 al 11-ABR-2021)"]
["2021-10-28",{"$f":"B47","v":106},"Azar","301 SALMON DEL ATLANTICO (SALMO SALAR) ","1 ADULTOS",101577,353,35856.681,12.7,"No",33,1.4,"No","No","No","Si",7.0,0.0,0.0,0.0,null,null,"Semana 15 (12-ABR-2021 al 18-ABR-2021)"]
["2021-10-28",{"$f":"B48","v":106},"Azar","301 SALMON DEL ATLANTICO (SALMO SALAR) ","1 ADULTOS",101577,353,35856.681,12.7,"No",33,1.4,"No","No","No","Si",8.0,1.0,0.0,0.0,null,null,"Semana 16 (19-ABR-2021 al 25-ABR-2021)"]
["2021-10-28",{"$f":"B49","v":106},"Azar","301 SALMON DEL ATLANTICO (SALMO SALAR) ","1 ADULTOS",101577,353,35856.681,12.7,"No",33,1.4,"No","No","No","Si",9.0,0.0,0.0,0.0,null,null,"Semana 17 (26-ABR-2021 al 2-MAY-2021)"]
["2021-10-28",{"$f":"B50","v":106},"Azar","301 SALMON DEL ATLANTICO (SALMO SALAR) ","1 ADULTOS",101577,353,35856.681,12.7,"No",33,1.4,"No","No","No","Si",10.0,0.0,0.0,0.0,null,null,"Semana 18 (3-MAY-2021 al 9-MAY-2021)"]
["2021-10-28",{"$f":"B51","v":106},"Azar","301 SALMON DEL ATLANTICO (SALMO SALAR) ","1 ADULTOS",101577,353,35856.681,12.7,"No",33,1.4,"No","No","No","Si","Batea",0.0,0.0,0.0,null,null,"Semana 19 (10-MAY-2021 al 16-MAY-2021)"]
["Fecha Muestreo","Identificador de Jaula","Tipo Estructura","Especie","Etapa de Desarrollo","N° de peces ","Peso Promedio de la Jaula[gr]","Biomasa [kg]","Temperatura[°C] ","Fotoperiodo","Salinidad [%]","Densidad [kg/m3]","T1","T2","T3","TN","Pez N° ","Juveniles","Adultos Móviles(AM)","Hembras ovígeras(HO)",null,null,"Semana 20 (17-MAY-2021 al 23-MAY-2021)"]
["2021-10-28",108.0,"Azar","301 SALMON DEL ATLANTICO (SALMO SALAR) ","1 ADULTOS",101323.0,305.0,{"$f":"+(F54*G54)/1000","v":30903.515},12.7,"No",33.0,1.2,"No","No","No","Si",1.0,0.0,0.0,0.0,null,null,"Semana 21 (24-MAY-2021 al 30-MAY-2021)"]
[{"$f":"IF(A54=\"\",\"\",A54)","v":"2021-10-28"},{"$f":"B54","v":108},"Azar","301 SALMON DEL ATLANTICO (SALMO SALAR) ","1 ADULTOS",101323,305,30903.515,12.7,"No",33,1.2,"No","No","No","Si",2.0,0.0,0.0,0.0,null,null,"Semana 22 (31-MAY-2021 al 6-JUN-2021)"]
["2021-10-28",{"$f":"B55","v":108},"Azar","301 SALMON DEL ATLANTICO (SALMO SALAR) ","1 ADULTOS",101323,305,30903.515,12.7,"No",33,1.2,"No","No","No","Si",3.0,0.0,0.0,0.0,null,null,"Semana 23 (7-JUN-2021 al 13-JUN-2021)"]
["2021-10-28",{"$f":"B56","v":108},"Azar","301 SALMON DEL ATLANTICO (SALMO SALAR) ","1 ADULTOS",101323,305,30903.515,12.7,"No",33,1.2,"No","No","No","Si",4.0,0.0,0.0,0.0,null,null,"Semana 24 (14-JUN-2021 al 20-JUN-2021)"]
["2021-10-28",{"$f":"B57","v":108},"Azar","301 SALMON DEL ATLANTICO (SALMO SALAR) ","1 ADULTOS",101323,305,30903.515,12.7,"No",33,1.2,"No","No","No","Si",5.0,0.0,0.0,0.0,null,null,"Semana 25 (21-JUN-2021 al 27-JUN-2021)"]
["2021-10-28",{"$f":"B58","v":108},"Azar","301 SALMON DEL ATLANTICO (SALMO SALAR) ","1 ADULTOS",101323,305,30903.515,12.7,"No",33,1.2,"No","No","No","Si",6.0,0.0,0.0,0.0,null,null,"Semana 26 (28-JUN-2021 al 4-JUL-2021)"]
["2021-10-28",{"$f":"B59","v":108},"Azar","301 SALMON DEL ATLANTICO (SALMO SALAR) ","1 ADULTOS",101323,305,30903.515,12.7,"No",33,1.2,"No","No","No","Si",7.0,0.0,0.0,0.0,null,null,"Semana 27 (5-JUL-2021 al 11-JUL-2021)"]
["2021-10-28",{"$f":"B60","v":108},"Azar","301 SALMON DEL ATLANTICO (SALMO SALAR) ","1 ADULTOS",101323,305,30903.515,12.7,"No",33,1.2,"No","No","No","Si",8.0,0.0,0.0,0.0,null,null,"Semana 28 (12-JUL-2021 al 18-JUL-2021)"]
["2021-10-28",{"$f":"B61","v":108},"Azar","301 SALMON DEL ATLANTICO (SALMO SALAR) ","1 ADULTOS",101323,305,30903.515,12.7,"No",33,1.2,"No","No","No","Si",9.0,0.0,0.0,0.0,null,null,"Semana 29 (19-JUL-2021 al 25-JUL-2021)"]
["2021-10-28",{"$f":"B62","v":108},"Azar","301 SALMON DEL ATLANTICO (SALMO SALAR) ","1 ADULTOS",101323,305,30903.515,12.7,"No",33,1.2,"No","No","No","Si",10.0,0.0,0.0,0.0,null,null,"Semana 30 (26-JUL-2021 al 1-AGO-2021)"]
["2021-10-28",{"$f":"B63","v":108},"Azar","301 SALMON DEL ATLANTICO (SALMO SALAR) ","1 ADULTOS",101323,305,30903.515,12.7,"No",33,1.2,"No","No","No","Si","Batea",0.0,0.0,0.0,null,null,"Semana 31 (2-AGO-2021 al 8-AGO-2021)"]
["Fecha Muestreo","Identificador de Jaula","Tipo Estructura","Especie","Etapa de Desarrollo","N° de peces ","Peso Promedio de la Jaula[gr]","Biomasa [kg]","Temperatura[°C] ","Fotoperiodo","Salinidad [%]","Densidad [kg/m3]","T1","T2","T3","TN","Pez N° ","Juveniles","Adultos Móviles(AM)","Hembras ovígeras(HO)",null,null,"Semana 32 (9-AGO-2021 al 15-AGO-2021)"]
[null,null,null,null,null,null,null,{"$f":"+(F66*G66)/1000","v":0},null,null,null,null,null,null,null,null,1.0,null,null,null,null,null,"Semana 33 (16-AGO-2021 al 22-AGO-2021)"]
[{"$f":"IF(A66=\"\",\"\",A66)","v":""},{"$f":"B66","v":""},"","","","","",0,"","","","","","","","",2.0,null,null,null,null,null,"Semana 34 (23-AGO-2021 al 29-AGO-2021)"]
["",{"$f":"B67","v":""},"","","","","",0,"","","","","","","","",3.0,null,null,null,null,null,"Semana 35 (30-AGO-2021 al 5-SEP-2021)"]
["",{"$f":"B68","v":""},"","","","","",0,"","","","","","","","",4.0,null,null,null,null,null,"Semana 36 (6-SEP-2021 al 12-SEP-2021)"]
["",{"$f":"B69","v":""},"","","","","",0,"","","","","","","","",5.0,null,null,null,null,null,"Semana 37 (13-SEP-2021 al 19-SEP-2021)"]
["",{"$f":"B70","v":""},"","","","","",0,"","","","","","","","",6.0,null,null,null,null,null,"Semana 38 (20-SEP-2021 al 26-SEP-2021)"]
["",{"$f":"B71","v":""},"","","","","",0,"","","","","","","","",7.0,null,null,null,null,null,"Semana 39 (27-SEP-2021 al 3-OCT-2021)"]
["",{"$f":"B72","v":""},"","","","","",0,"","","","","","","","",8.0,null,null,null,null,null,"Semana 40 (4-OCT-2021 al 10-OCT-2021)"]
["",{"$f":"B73","v":""},"","","","","",0,"","","","","","","","",9.0,null,null,null,null,null,"Semana 41 (11-OCT-2021 al 17-OCT-2021)"]
["",{"$f":"B74","v":""},"","","","","",0,"","","","","","","","",10.0,null,null,null,null,null,"Semana 42 (18-OCT-2021 al 24-OCT-2021)"]
["",{"$f":"B75","v":""},"","","","","",0,"","","","","","","","","Batea",null,null,null,null,null,"Semana 43 (25-OCT-2021 al 31-OCT-2021)"]
["Fecha Muestreo","Identificador de Jaula","Tipo Estructura","Especie","Etapa de Desarrollo","N° de peces ","Peso Promedio de la Jaula[gr]","Biomasa [kg]","Temperatura[°C] ","Fotoperiodo","Salinidad [%]","Densidad [kg/m3]","T1","T2","T3","TN","Pez N° ","Juveniles","Adultos Móviles(AM)","Hembras ovígeras(HO)",null,null,"Semana 44 (1-NOV-2021 al 7-NOV-2021)"]
[null,null,null,null,null,null,null,{"$f":"+(F78*G78)/1000","v":0},null,null,null,null,null,null,null,null,1.0,null,null,null,null,null,"Semana 45 (8-NOV-2021 al 14-NOV-2021)"]
[{"$f":"IF(A78=\"\",\"\",A78)","v":""},{"$f":"B78","v":""},"","","","","",0,"","","","","","","","",2.0,null,null,null,null,null,"Semana 46 (15-NOV-2021 al 21-NOV-2021)"]
["",{"$f":"B79","v":""},"","","","","",0,"","","","","","","","",3.0,null,null,null,null,null,"Semana 47 (22-NOV-2021 al 28-NOV-2021)"]
["",{"$f":"B80","v":""},"","","","","",0,"","","","","","","","",4.0,null,null,null,null,null,"Semana 48 (29-NOV-2021 al 5-DIC-2021)"]
["",{"$f":"B81","v":""},"","","","","",0,"","","","","","","","",5.0,null,null,null,null,null,"Semana 49 (6-DIC-2021 al 12-DIC-2021)"]
["",{"$f":"B82","v":""},"","","","","",0,"","","","","","","","",6.0,null,null,null,null,null,"Semana 50 (13-DIC-2021 al 19-DIC-2021)"]
["",{"$f":"B83","v":""},"","","","","",0,"","","","","","","","",7.0,null,null,null,null,null,"Semana 51 (20-DIC-2021 al 26-DIC-2021)"]
["",{"$f":"B84","v":""},"","","","","",0,"","","","","","","","",8.0,null,null,null,null,null,"Semana 52 (27-DIC-2021 al 2-ENE-2022)"]
["",{"$f":"B85","v":""},"","","","","",0,"","","","","","","","",9.0]
["",{"$f":"B86","v":""},"","","","","",0,"","","","","","","","",10.0]
["",{"$f":"B87","v":""},"","","","","",0,"","","","","","","","","Batea"]
["Fecha Muestreo","Identificador de Jaula","Tipo Estructura","Especie","Etapa de Desarrollo","N° de peces ","Peso Promedio de la Jaula[gr]","Biomasa [kg]","Temperatura[°C] ","Fotoperiodo","Salinidad [%]","Densidad [kg/m3]","T1","T2","T3","TN","Pez N° ","Juveniles","Adultos Móviles(AM)","Hembras ovígeras(HO)"]
[null,null,null,null,null,null,null,{"$f":"+(F90*G90)/1000","v":0},null,null,null,null,null,null,null,null,1.0]
[{"$f":"IF(A90=\"\",\"\",A90)","v":""},{"$f":"B90","v":""},"","","","","",0,"","","","","","","","",2.0]
["",{"$f":"B91","v":""},"","","","","",0,"","","","","","","","",3.0]
["",{"$f":"B92","v":""},"","","","","",0,"","","","","","","","",4.0]
["",{"$f":"B93","v":""},"","","","","",0,"","","","","","","","",5.0]
["",{"$f":"B94","v":""},"","","","","",0,"","","","","","","","",6.0]
["",{"$f":"B95","v":""},"","","","","",0,"","","","","","","","",7.0]
["",{"$f":"B96","v":""},"","","","","",0,"","","","","","","","",8.0]
["",{"$f":"B97","v":""},"","","","","",0,"","","","","","","","",9.0]
["",{"$f":"B98","v":""},"","","","","",0,"","","","","","","","",10.0]
["",{"$f":"B99","v":""},"","","","","",0,"","","","","","","","","Batea"]
["Fecha Muestreo","Identificador de Jaula","Tipo Estructura","Especie","Etapa de Desarrollo","N° de peces ","Peso Promedio de la Jaula[gr]","Biomasa [kg]","Temperatura[°C] ","Fotoperiodo","Salinidad [%]","Densidad [kg/m3]","T1","T2","T3","TN","Pez N° ","Juveniles","Adultos Móviles(AM)","Hembras ovígeras(HO)"]
[null,null,null,null,null,null,null,{"$f":"+(F102*G102)/1000","v":0},null,null,null,null,null,null,null,null,1.0]
[{"$f":"IF(A102=\"\",\"\",A102)","v":""},{"$f":"B102","v":""},"","","","","",0,"","","","","","","","",2.0]
["",{"$f":"B103","v":""},"","","","","",0,"","","","","","","","",3.0]
["",{"$f":"B104","v":""},"","","","","",0,"","","","","","","","",4.0]
["",{"$f":"B105","v":""},"","","","","",0,"","","","","","","","",5.0]
["",{"$f":"B106","v":""},"","","","","",0,"","","","","","","","",6.0]
["",{"$f":"B107","v":""},"","","","","",0,"","","","","","","","",7.0]
["",{"$f":"B108","v":""},"","","","","",0,"","","","","","","","",8.0]
["",{"$f":"B109","v":""},"","","","","",0,"","","","","","","","",9.0]
["",{"$f":"B110","v":""},"","","","","",0,"","","","","","","","",10.0]
["",{"$f":"B111","v":""},"","","","","",0,"","","","","","","","","Batea"]
[]
[]
[]
[]
[]
["2. Incidentes Mortales (1) en Mamiferos Marinos, Aves u otras especies."]
[]
["N° de Incidentes al mes"]
["Mamíferos / Aves","Semana 43  28/10/2021"]
["Mamíferos Marinos",0.0]
["Aves",0.0]
[]
["(1) Incidente Mortal: incluye todas las acciones letales así como también muerte por enredo en redes u otras mortalidades accidentales de especies que no son salmonidos."]

{"sheet":"Resumen","index":1,"n_rows":13,"n_cols":8,"rows_kept":13,"cut":false,"hidden":false,"merged":[[1,4,1,6],[2,2,2,3]]}
[]
[]
[null,null,{"$f":"+'Planilla caligus SIFA'!B9","v":"Semana 43 (25-OCT-2021 al 31-OCT-2021)"}]
[null,null,"Fecha Muestreo","Identificador de Jaula","Juveniles","Adultos Móviles(AM)","Hembras ovígeras(HO)","Adultos Totales"]
[null,null,{"$f":"'Planilla caligus SIFA'!A18","v":"2021-10-28"},{"$f":"'Planilla caligus SIFA'!B18","v":101},{"$f":"SUM('Planilla caligus SIFA'!R18:R28)/10","v":0.1},{"$f":"SUM('Planilla caligus SIFA'!S18:S28)/10","v":0},{"$f":"SUM('Planilla caligus SIFA'!T18:T28)/10","v":0},{"$f":"SUM(F5:G5)","v":0}]
[null,null,{"$f":"'Planilla caligus SIFA'!A30","v":"2021-10-28"},{"$f":"'Planilla caligus SIFA'!B30","v":103},{"$f":"SUM('Planilla caligus SIFA'!R30:R40)/10","v":0},{"$f":"SUM('Planilla caligus SIFA'!S30:S40)/10","v":0},{"$f":"SUM('Planilla caligus SIFA'!T30:T40)/10","v":0},0]
[null,null,{"$f":"'Planilla caligus SIFA'!A42","v":"2021-10-28"},{"$f":"'Planilla caligus SIFA'!B42","v":106},{"$f":"SUM('Planilla caligus SIFA'!R42:R52)/10","v":0.1},{"$f":"SUM('Planilla caligus SIFA'!S42:S52)/10","v":0},{"$f":"SUM('Planilla caligus SIFA'!T42:T52)/10","v":0},0]
[null,null,{"$f":"'Planilla caligus SIFA'!A54","v":"2021-10-28"},{"$f":"'Planilla caligus SIFA'!$B$54","v":108},{"$f":"SUM('Planilla caligus SIFA'!R54:R64)/10","v":0},{"$f":"SUM('Planilla caligus SIFA'!S54:S64)/10","v":0},{"$f":"SUM('Planilla caligus SIFA'!T54:T64)/10","v":0},0]
[]
[]
[]
[]
[null,null,null,"Promedios",{"$f":"AVERAGE(E5:E8)","v":0.05},0,0,0]

{"sheet":"Bitacora","index":2,"n_rows":87,"n_cols":13,"rows_kept":87,"cut":false,"hidden":false,"merged":[[1,2,1,4]]}
[]
[null,null,{"$f":"'Planilla caligus SIFA'!$B$9","v":"Semana 43 (25-OCT-2021 al 31-OCT-2021)"}]
[null,null,"Jaula",{"$f":"'Planilla caligus SIFA'!$B$18","v":101},{"$f":"'Planilla caligus SIFA'!$A$18","v":"2021-10-28"},null,null,null,"Jaula",{"$f":"'Planilla caligus SIFA'!$B$30","v":103},{"$f":"'Planilla caligus SIFA'!$A$30","v":"2021-10-28"}]
[null,null,"Caligus","Juveniles","Adultos Móviles(AM)","Hembras ovígeras(HO)","Total adultos",null,"Caligus","Juveniles","Adultos Móviles(AM)","Hembras ovígeras(HO)","Total adultos"]
[null,null,1.0,{"$f":"'Planilla caligus SIFA'!R18","v":0},{"$f":"'Planilla caligus SIFA'!S18","v":0},{"$f":"'Planilla caligus SIFA'!T18","v":0},{"$f":"+E5+F5","v":0},null,1.0,{"$f":"'Planilla caligus SIFA'!R30","v":0},{"$f":"'Planilla caligus SIFA'!S30","v":0},{"$f":"'Planilla caligus SIFA'!T30","v":0},{"$f":"+K5+L5","v":0}]
[null,null,2.0,{"$f":"'Planilla caligus SIFA'!R19","v":0},{"$f":"'Planilla caligus SIFA'!S19","v":0},{"$f":"'Planilla caligus SIFA'!T19","v":0},0,null,2.0,{"$f":"'Planilla caligus SIFA'!R31","v":0},{"$f":"'Planilla caligus SIFA'!S31","v":0},{"$f":"'Planilla caligus SIFA'!T31","v":0},0]
[null,null,3.0,{"$f":"'Planilla caligus SIFA'!R20","v":0},{"$f":"'Planilla caligus SIFA'!S20","v":0},{"$f":"'Planilla caligus SIFA'!T20","v":0},0,null,3.0,{"$f":"'Planilla caligus SIFA'!R32","v":0},{"$f":"'Planilla caligus SIFA'!S32","v":0},{"$f":"'Planilla caligus SIFA'!T32","v":0},0]
[null,null,4.0,{"$f":"'Planilla caligus SIFA'!R21","v":0},{"$f":"'Planilla caligus SIFA'!S21","v":0},{"$f":"'Planilla caligus SIFA'!T21","v":0},0,null,4.0,{"$f":"'Planilla caligus SIFA'!R33","v":0},{"$f":"'Planilla caligus SIFA'!S33","v":0},{"$f":"'Planilla caligus SIFA'!T33","v":0},0]
[null,null,5.0,{"$f":"'Planilla caligus SIFA'!R22","v":1},{"$f":"'Planilla caligus SIFA'!S22","v":0},{"$f":"'Planilla caligus SIFA'!T22","v":0},0,null,5.0,{"$f":"'Planilla caligus SIFA'!R34","v":0},{"$f":"'Planilla caligus SIFA'!S34","v":0},{"$f":"'Planilla caligus SIFA'!T34","v":0},0]
[null,null,6.0,{"$f":"'Planilla caligus SIFA'!R23","v":0},{"$f":"'Planilla caligus SIFA'!S23","v":0},{"$f":"'Planilla caligus SIFA'!T23","v":0},0,null,6.0,{"$f":"'Planilla caligus SIFA'!R35","v":0},{"$f":"'Planilla caligus SIFA'!S35","v":0},{"$f":"'Planilla caligus SIFA'!T35","v":0},0]
[null,null,7.0,{"$f":"'Planilla caligus SIFA'!R24","v":0},{"$f":"'Planilla caligus SIFA'!S24","v":0},{"$f":"'Planilla caligus SIFA'!T24","v":0},0,null,7.0,{"$f":"'Planilla caligus SIFA'!R36","v":0},{"$f":"'Planilla caligus SIFA'!S36","v":0},{"$f":"'Planilla caligus SIFA'!T36","v":0},0]
[null,null,8.0,{"$f":"'Planilla caligus SIFA'!R25","v":0},{"$f":"'Planilla caligus SIFA'!S25","v":0},{"$f":"'Planilla caligus SIFA'!T25","v":0},0,null,8.0,{"$f":"'Planilla caligus SIFA'!R37","v":0},{"$f":"'Planilla caligus SIFA'!S37","v":0},{"$f":"'Planilla caligus SIFA'!T37","v":0},0]
[null,null,9.0,{"$f":"'Planilla caligus SIFA'!R26","v":0},{"$f":"'Planilla caligus SIFA'!S26","v":0},{"$f":"'Planilla caligus SIFA'!T26","v":0},0,null,9.0,{"$f":"'Planilla caligus SIFA'!R38","v":0},{"$f":"'Planilla caligus SIFA'!S38","v":0},{"$f":"'Planilla caligus SIFA'!T38","v":0},0]
[null,null,10.0,{"$f":"'Planilla caligus SIFA'!R27","v":0},{"$f":"'Planilla caligus SIFA'!S27","v":0},{"$f":"'Planilla caligus SIFA'!T27","v":0},0,null,10.0,{"$f":"'Planilla caligus SIFA'!R39","v":0},{"$f":"'Planilla caligus SIFA'!S39","v":0},{"$f":"'Planilla caligus SIFA'!T39","v":0},0]
[null,null,"batea",{"$f":"'Planilla caligus SIFA'!R28","v":0},{"$f":"'Planilla caligus SIFA'!S28","v":0},{"$f":"'Planilla caligus SIFA'!T28","v":0},0,null,"batea",{"$f":"'Planilla caligus SIFA'!R40","v":0},{"$f":"'Planilla caligus SIFA'!S40","v":0},{"$f":"'Planilla caligus SIFA'!T40","v":0},0]
[null,null,"promedio",{"$f":"SUM(D5:D15)/10","v":0.1},0,0,0,null,"promedio",{"$f":"SUM(J5:J15)/10","v":0},0,0,0]
[]
[null,null,"Jaula",{"$f":"'Planilla caligus SIFA'!$B$42","v":106},{"$f":"'Planilla caligus SIFA'!$A$42","v":"2021-10-28"},null,null,null,"Jaula",{"$f":"'Planilla caligus SIFA'!$B$54","v":108},{"$f":"'Planilla caligus SIFA'!$A$54","v":"2021-10-28"}]
[null,null,"Caligus","Juveniles","Adultos Móviles(AM)","Hembras ovígeras(HO)","Total adultos",null,"Caligus","Juveniles","Adultos Móviles(AM)","Hembras ovígeras(HO)","Total adultos"]
[null,null,1.0,{"$f":"'Planilla caligus SIFA'!R42","v":0},{"$f":"'Planilla caligus SIFA'!S42","v":0},{"$f":"'Planilla caligus SIFA'!T42","v":0},{"$f":"+E20+F20","v":0},null,1.0,{"$f":"'Planilla caligus SIFA'!R54","v":0},{"$f":"'Planilla caligus SIFA'!S54","v":0},{"$f":"'Planilla caligus SIFA'!T54","v":0},{"$f":"+K20+L20","v":0}]
[null,null,2.0,{"$f":"'Planilla caligus SIFA'!R43","v":0},{"$f":"'Planilla caligus SIFA'!S43","v":0},{"$f":"'Planilla caligus SIFA'!T43","v":0},0,null,2.0,{"$f":"'Planilla caligus SIFA'!R55","v":0},{"$f":"'Planilla caligus SIFA'!S55","v":0},{"$f":"'Planilla caligus SIFA'!T55","v":0},0]
[null,null,3.0,{"$f":"'Planilla caligus SIFA'!R44","v":0},{"$f":"'Planilla caligus SIFA'!S44","v":0},{"$f":"'Planilla caligus SIFA'!T44","v":0},0,null,3.0,{"$f":"'Planilla caligus SIFA'!R56","v":0},{"$f":"'Planilla caligus SIFA'!S56","v":0},{"$f":"'Planilla caligus SIFA'!T56","v":0},0]
[null,null,4.0,{"$f":"'Planilla caligus SIFA'!R45","v":0},{"$f":"'Planilla caligus SIFA'!S45","v":0},{"$f":"'Planilla caligus SIFA'!T45","v":0},0,null,4.0,{"$f":"'Planilla caligus SIFA'!R57","v":0},{"$f":"'Planilla caligus SIFA'!S57","v":0},{"$f":"'Planilla caligus SIFA'!T57","v":0},0]
[null,null,5.0,{"$f":"'Planilla caligus SIFA'!R46","v":0},{"$f":"'Planilla caligus SIFA'!S46","v":0},{"$f":"'Planilla caligus SIFA'!T46","v":0},0,null,5.0,{"$f":"'Planilla caligus SIFA'!R58","v":0},{"$f":"'Planilla caligus SIFA'!S58","v":0},{"$f":"'Planilla caligus SIFA'!T58","v":0},0]
[null,null,6.0,{"$f":"'Planilla caligus SIFA'!R47","v":0},{"$f":"'Planilla caligus SIFA'!S47","v":0},{"$f":"'Planilla caligus SIFA'!T47","v":0},0,null,6.0,{"$f":"'Planilla caligus SIFA'!R59","v":0},{"$f":"'Planilla caligus SIFA'!S59","v":0},{"$f":"'Planilla caligus SIFA'!T59","v":0},0]
[null,null,7.0,{"$f":"'Planilla caligus SIFA'!R48","v":0},{"$f":"'Planilla caligus SIFA'!S48","v":0},{"$f":"'Planilla caligus SIFA'!T48","v":0},0,null,7.0,{"$f":"'Planilla caligus SIFA'!R60","v":0},{"$f":"'Planilla caligus SIFA'!S60","v":0},{"$f":"'Planilla caligus SIFA'!T60","v":0},0]
[null,null,8.0,{"$f":"'Planilla caligus SIFA'!R49","v":1},{"$f":"'Planilla caligus SIFA'!S49","v":0},{"$f":"'Planilla caligus SIFA'!T49","v":0},0,null,8.0,{"$f":"'Planilla caligus SIFA'!R61","v":0},{"$f":"'Planilla caligus SIFA'!S61","v":0},{"$f":"'Planilla caligus SIFA'!T61","v":0},0]
[null,null,9.0,{"$f":"'Planilla caligus SIFA'!R50","v":0},{"$f":"'Planilla caligus SIFA'!S50","v":0},{"$f":"'Planilla caligus SIFA'!T50","v":0},0,null,9.0,{"$f":"'Planilla caligus SIFA'!R62","v":0},{"$f":"'Planilla caligus SIFA'!S62","v":0},{"$f":"'Planilla caligus SIFA'!T62","v":0},0]
[null,null,10.0,{"$f":"'Planilla caligus SIFA'!R51","v":0},{"$f":"'Planilla caligus SIFA'!S51","v":0},{"$f":"'Planilla caligus SIFA'!T51","v":0},0,null,10.0,{"$f":"'Planilla caligus SIFA'!R63","v":0},{"$f":"'Planilla caligus SIFA'!S63","v":0},{"$f":"'Planilla caligus SIFA'!T63","v":0},0]
[null,null,"batea",{"$f":"'Planilla caligus SIFA'!R52","v":0},{"$f":"'Planilla caligus SIFA'!S52","v":0},{"$f":"'Planilla caligus SIFA'!T52","v":0},0,null,"batea",{"$f":"'Planilla caligus SIFA'!R64","v":0},{"$f":"'Planilla caligus SIFA'!S64","v":0},{"$f":"'Planilla caligus SIFA'!T64","v":0},0]
[null,null,"promedio",{"$f":"SUM(D20:D30)/10","v":0.1},0,0,0,null,"promedio",{"$f":"SUM(J20:J30)/10","v":0},0,0,0]
[]
[null,null,"Responsable",{"$f":"+'Planilla caligus SIFA'!B6","v":"SEBASTIAN "},{"$f":"+'Planilla caligus SIFA'!B7","v":"BARRIA BARRIA "}]
[null,null,"Rut:",{"$f":"+'Planilla caligus SIFA'!B5","v":"14457118-5"}]
[null,null,"Fecha",{"$f":"+'Planilla caligus SIFA'!B3","v":"2021-10-28"}]
[]
[]
[null,null,"Firma"]
[]
[]
[]
[]
[]
[]
[]
[]
[]
[]
[]
[]
[]
[]
[]
[]
[]
[]
[]
[]
[]
[]
[]
[]
[]
[]
[]
[]
[]
[]
[]
[]
[]
[]
[]
[]
[]
[]
[]
[]
[]
[]
[]
[null,null,"Responsable",{"$f":"+'Planilla caligus SIFA'!B6","v":"SEBASTIAN "},{"$f":"+'Planilla caligus SIFA'!B7","v":"BARRIA BARRIA "}]
[null,null,"Rut:",{"$f":"+'Planilla caligus SIFA'!B5","v":"14457118-5"}]
[null,null,"Fecha",{"$f":"+'Planilla caligus SIFA'!B3","v":"2021-10-28"}]
[]
[]
[null,null,"Firma"]